Workbook

Sheet development
A1: Department | B1: Name | C1: No. | D1: Date/Time | E1: Status | G1: 41841
A2: DEVELOPMENT | B2: FRIONO | C2: 110100140 | D2: 7/21/2014 8:19:17 AM | E2: C/In | F2: =LEFT(D2,SEARCH(" ",D2,1)-1) -> 7/21/2014 | G2: =RIGHT(D2,LEN(D2)-SEARCH(" ",D2)) -> 8:19:17 AM
A3: DEVELOPMENT | B3: FRIONO | C3: 110100140 | D3: 7/21/2014 4:45:51 PM | E3: C/In
A4: DEVELOPMENT | B4: FRIONO | C4: 110100140 | D4: 7/21/2014 4:46:02 PM | E4: C/Out
A5: DEVELOPMENT | B5: FRIONO | C5: 110100140 | D5: 7/23/2014 7:41:05 AM | E5: C/In | F5: =DATE(RIGHT(LEFT(D2,SEARCH(" ",D2,1)-1),LEN(LEFT(D2,SEARCH(" ",D2,1)-1))-SEARCH("/",D2,SEARCH("/",D2,1)+1)),LEFT(LEFT(D2,SEARCH(" ",D2,1)-1),SEARCH("/",LEFT(D2,SEARCH(" ",D2,1)-1),1)-1),TRIM(MID(SUBSTITUTE(LEFT(D2,SEARCH(" ",D2,1)-1),"/",REPT(" ",99)),100,99))) -> 41841
A6: DEVELOPMENT | B6: FRIONO | C6: 110100140 | D6: 7/23/2014 4:43:08 PM | E6: C/Out
A7: DEVELOPMENT | B7: FRIONO | C7: 110100140 | D7: 7/24/2014 7:31:24 AM | E7: C/In
A8: DEVELOPMENT | B8: FRIONO | C8: 110100140 | D8: 7/24/2014 4:40:21 PM | E8: C/Out
A9: DEVELOPMENT | B9: FRIONO | C9: 110100140 | D9: 8/5/2014 7:51:05 AM | E9: C/In
A10: DEVELOPMENT | B10: HEPPI WULANSARI | C10: 202130327 | D10: 7/21/2014 8:05:01 AM | E10: C/In
A11: DEVELOPMENT | B11: HEPPI WULANSARI | C11: 202130327 | D11: 7/21/2014 4:44:35 PM | E11: C/Out
A12: DEVELOPMENT | B12: HEPPI WULANSARI | C12: 202130327 | D12: 7/22/2014 8:06:35 AM | E12: C/In
A13: DEVELOPMENT | B13: HEPPI WULANSARI | C13: 202130327 | D13: 7/22/2014 5:14:06 PM | E13: C/Out
A14: DEVELOPMENT | B14: HEPPI WULANSARI | C14: 202130327 | D14: 7/23/2014 7:57:44 AM | E14: C/In
A15: DEVELOPMENT | B15: HEPPI WULANSARI | C15: 202130327 | D15: 7/23/2014 4:46:10 PM | E15: C/Out
A16: DEVELOPMENT | B16: HEPPI WULANSARI | C16: 202130327 | D16: 7/24/2014 8:01:19 AM | E16: C/In
A17: DEVELOPMENT | B17: HEPPI WULANSARI | C17: 202130327 | D17: 7/24/2014 5:15:03 PM | E17: C/Out
... A92: DEVELOPMENT | B92: DANI WANDIANDINI | C92: 209130480 | D92: 8/5/2014 7:40:35 AM | E92: C/In

Sheet Hasil
A1: DATA ABSENSI
A3: NO | B3: NIK | C3: NAMA | D3: DEPT | E3: 41841 | G3: =E3+1 -> 41842 | I3: =G3+1 -> 41843 | K3: =I3+1 -> 41844 | M3: =K3+1 -> 41845 | O3: =M3+1 -> 41846
E4: C/In | F4: C/Out | G4: C/In | H4: C/Out | I4: C/In | J4: C/Out | K4: C/In | L4: C/Out | M4: C/In | N4: C/Out | O4: C/In | P4: C/Out
A5: 1 | B5: 110100140 | C5: =development!B2 -> FRIONO | D5: DEVELOPMENT | E5: {=IFERROR(INDEX(RIGHT(development!$D$2:$D$92,LEN(development!$D$2:$D$92)-SEARCH(" ",development!$D$2:$D$92)),MATCH(1,(development!$A$2:$A$92=$D5)*(development!$C$2:$C$92=$B5)*(development!$B$2:$B$92=$C5)*(DATE(RIGHT(LEFT(development!$D$2:$D$92,SEARCH(" ",development!$D$2:$D$92,1)-1),LEN(LEFT(development!$D$2:$D$92,SEARCH(" ",development!$D$2:$D$92,1)-1))-SEARCH("/",development!$D$2:$D$92,SEARCH("/",development!$D$2:$D$92,1)+1)),LEFT(LEFT(development!$D$2:$D$92,SEARCH(" ",development!$D$2:$D$92,1)-1),SEARCH("/",LEFT(development!$D$2:$D$92,SEARCH(" ",development!$D$2:$D$92,1)-1),1)-1),TRIM(MID(SUBSTITUTE(LEFT(development!$D$2:$D$92,SEARCH(" ",development!$D$2:$D$92,1)-1),"/",REPT(" ",99)),100,99)))=E$3)*(development!$E$2:$E$92=E$4),0)),"")} -> 8:19:17 AM | F5: {=IFERROR(INDEX(RIGHT(development!$D$2:$D$92,LEN(development!$D$2:$D$92)-SEARCH(" ",development!$D$2:$D$92)),MATCH(1,(development!$A$2:$A$92=$D5)*(development!$C$2:$C$92=$B5)*(development!$B$2:$B$92=$C5)*(DATE(RIGHT(LEFT(development!$D$2:$D$92,SEARCH(" ",development!$D$2:$D$92,1)-1),LEN(LEFT(development!$D$2:$D$92,SEARCH(" ",development!$D$2:$D$92,1)-1))-SEARCH("/",development!$D$2:$D$92,SEARCH("/",development!$D$2:$D$92,1)+1)),LEFT(LEFT(development!$D$2:$D$92,SEARCH(" ",development!$D$2:$D$92,1)-1),SEARCH("/",LEFT(development!$D$2:$D$92,SEARCH(" ",development!$D$2:$D$92,1)-1),1)-1),TRIM(MID(SUBSTITUTE(LEFT(development!$D$2:$D$92,SEARCH(" ",development!$D$2:$D$92,1)-1),"/",REPT(" ",99)),100,99)))=E$3)*(development!$E$2:$E$92=F$4),0)),"")} -> 4:46:02 PM | G5: {=IFERROR(INDEX(RIGHT(development!$D$2:$D$92,LEN(development!$D$2:$D$92)-SEARCH(" ",development!$D$2:$D$92)),MATCH(1,(development!$A$2:$A$92=$D5)*(development!$C$2:$C$92=$B5)*(development!$B$2:$B$92=$C5)*(DATE(RIGHT(LEFT(development!$D$2:$D$92,SEARCH(" ",development!$D$2:$D$92,1)-1),LEN(LEFT(development!$D$2:$D$92,SEARCH(" ",development!$D$2:$D$92,1)-1))-SEARCH("/",development!$D$2:$D$92,SEARCH("/",development!$D$2:$D$92,1)+1)),LEFT(LEFT(development!$D$2:$D$92,SEARCH(" ",development!$D$2:$D$92,1)-1),SEARCH("/",LEFT(development!$D$2:$D$92,SEARCH(" ",development!$D$2:$D$92,1)-1),1)-1),TRIM(MID(SUBSTITUTE(LEFT(development!$D$2:$D$92,SEARCH(" ",development!$D$2:$D$92,1)-1),"/",REPT(" ",99)),100,99)))=G$3)*(development!$E$2:$E$92=G$4),0)),"")} | H5: {=IFERROR(INDEX(RIGHT(development!$D$2:$D$92,LEN(development!$D$2:$D$92)-SEARCH(" ",development!$D$2:$D$92)),MATCH(1,(development!$A$2:$A$92=$D5)*(development!$C$2:$C$92=$B5)*(development!$B$2:$B$92=$C5)*(DATE(RIGHT(LEFT(development!$D$2:$D$92,SEARCH(" ",development!$D$2:$D$92,1)-1),LEN(LEFT(development!$D$2:$D$92,SEARCH(" ",development!$D$2:$D$92,1)-1))-SEARCH("/",development!$D$2:$D$92,SEARCH("/",development!$D$2:$D$92,1)+1)),LEFT(LEFT(development!$D$2:$D$92,SEARCH(" ",development!$D$2:$D$92,1)-1),SEARCH("/",LEFT(development!$D$2:$D$92,SEARCH(" ",development!$D$2:$D$92,1)-1),1)-1),TRIM(MID(SUBSTITUTE(LEFT(development!$D$2:$D$92,SEARCH(" ",development!$D$2:$D$92,1)-1),"/",REPT(" ",99)),100,99)))=G$3)*(development!$E$2:$E$92=H$4),0)),"")} | I5: {=IFERROR(INDEX(RIGHT(development!$D$2:$D$92,LEN(development!$D$2:$D$92)-SEARCH(" ",development!$D$2:$D$92)),MATCH(1,(development!$A$2:$A$92=$D5)*(development!$C$2:$C$92=$B5)*(development!$B$2:$B$92=$C5)*(DATE(RIGHT(LEFT(development!$D$2:$D$92,SEARCH(" ",development!$D$2:$D$92,1)-1),LEN(LEFT(development!$D$2:$D$92,SEARCH(" ",development!$D$2:$D$92,1)-1))-SEARCH("/",development!$D$2:$D$92,SEARCH("/",development!$D$2:$D$92,1)+1)),LEFT(LEFT(development!$D$2:$D$92,SEARCH(" ",development!$D$2:$D$92,1)-1),SEARCH("/",LEFT(development!$D$2:$D$92,SEARCH(" ",development!$D$2:$D$92,1)-1),1)-1),TRIM(MID(SUBSTITUTE(LEFT(development!$D$2:$D$92,SEARCH(" ",development!$D$2:$D$92,1)-1),"/",REPT(" ",99)),100,99)))=I$3)*(development!$E$2:$E$92=I$4),0)),"")} -> 7:41:05 AM | J5: {=IFERROR(INDEX(RIGHT(development!$D$2:$D$92,LEN(development!$D$2:$D$92)-SEARCH(" ",development!$D$2:$D$92)),MATCH(1,(development!$A$2:$A$92=$D5)*(development!$C$2:$C$92=$B5)*(development!$B$2:$B$92=$C5)*(DATE(RIGHT(LEFT(development!$D$2:$D$92,SEARCH(" ",development!$D$2:$D$92,1)-1),LEN(LEFT(development!$D$2:$D$92,SEARCH(" ",development!$D$2:$D$92,1)-1))-SEARCH("/",development!$D$2:$D$92,SEARCH("/",development!$D$2:$D$92,1)+1)),LEFT(LEFT(development!$D$2:$D$92,SEARCH(" ",development!$D$2:$D$92,1)-1),SEARCH("/",LEFT(development!$D$2:$D$92,SEARCH(" ",development!$D$2:$D$92,1)-1),1)-1),TRIM(MID(SUBSTITUTE(LEFT(development!$D$2:$D$92,SEARCH(" ",development!$D$2:$D$92,1)-1),"/",REPT(" ",99)),100,99)))=I$3)*(development!$E$2:$E$92=J$4),0)),"")} -> 4:43:08 PM | K5: {=IFERROR(INDEX(RIGHT(development!$D$2:$D$92,LEN(development!$D$2:$D$92)-SEARCH(" ",development!$D$2:$D$92)),MATCH(1,(development!$A$2:$A$92=$D5)*(development!$C$2:$C$92=$B5)*(development!$B$2:$B$92=$C5)*(DATE(RIGHT(LEFT(development!$D$2:$D$92,SEARCH(" ",development!$D$2:$D$92,1)-1),LEN(LEFT(development!$D$2:$D$92,SEARCH(" ",development!$D$2:$D$92,1)-1))-SEARCH("/",development!$D$2:$D$92,SEARCH("/",development!$D$2:$D$92,1)+1)),LEFT(LEFT(development!$D$2:$D$92,SEARCH(" ",development!$D$2:$D$92,1)-1),SEARCH("/",LEFT(development!$D$2:$D$92,SEARCH(" ",development!$D$2:$D$92,1)-1),1)-1),TRIM(MID(SUBSTITUTE(LEFT(development!$D$2:$D$92,SEARCH(" ",development!$D$2:$D$92,1)-1),"/",REPT(" ",99)),100,99)))=K$3)*(development!$E$2:$E$92=K$4),0)),"")} -> 7:31:24 AM | L5: {=IFERROR(INDEX(RIGHT(development!$D$2:$D$92,LEN(development!$D$2:$D$92)-SEARCH(" ",development!$D$2:$D$92)),MATCH(1,(development!$A$2:$A$92=$D5)*(development!$C$2:$C$92=$B5)*(development!$B$2:$B$92=$C5)*(DATE(RIGHT(LEFT(development!$D$2:$D$92,SEARCH(" ",development!$D$2:$D$92,1)-1),LEN(LEFT(development!$D$2:$D$92,SEARCH(" ",development!$D$2:$D$92,1)-1))-SEARCH("/",development!$D$2:$D$92,SEARCH("/",development!$D$2:$D$92,1)+1)),LEFT(LEFT(development!$D$2:$D$92,SEARCH(" ",development!$D$2:$D$92,1)-1),SEARCH("/",LEFT(development!$D$2:$D$92,SEARCH(" ",development!$D$2:$D$92,1)-1),1)-1),TRIM(MID(SUBSTITUTE(LEFT(development!$D$2:$D$92,SEARCH(" ",development!$D$2:$D$92,1)-1),"/",REPT(" ",99)),100,99)))=K$3)*(development!$E$2:$E$92=L$4),0)),"")} -> 4:40:21 PM | M5: {=IFERROR(INDEX(RIGHT(development!$D$2:$D$92,LEN(development!$D$2:$D$92)-SEARCH(" ",development!$D$2:$D$92)),MATCH(1,(development!$A$2:$A$92=$D5)*(development!$C$2:$C$92=$B5)*(development!$B$2:$B$92=$C5)*(DATE(RIGHT(LEFT(development!$D$2:$D$92,SEARCH(" ",development!$D$2:$D$92,1)-1),LEN(LEFT(development!$D$2:$D$92,SEARCH(" ",development!$D$2:$D$92,1)-1))-SEARCH("/",development!$D$2:$D$92,SEARCH("/",development!$D$2:$D$92,1)+1)),LEFT(LEFT(development!$D$2:$D$92,SEARCH(" ",development!$D$2:$D$92,1)-1),SEARCH("/",LEFT(development!$D$2:$D$92,SEARCH(" ",development!$D$2:$D$92,1)-1),1)-1),TRIM(MID(SUBSTITUTE(LEFT(development!$D$2:$D$92,SEARCH(" ",development!$D$2:$D$92,1)-1),"/",REPT(" ",99)),100,99)))=M$3)*(development!$E$2:$E$92=M$4),0)),"")} | N5: {=IFERROR(INDEX(RIGHT(development!$D$2:$D$92,LEN(development!$D$2:$D$92)-SEARCH(" ",development!$D$2:$D$92)),MATCH(1,(development!$A$2:$A$92=$D5)*(development!$C$2:$C$92=$B5)*(development!$B$2:$B$92=$C5)*(DATE(RIGHT(LEFT(development!$D$2:$D$92,SEARCH(" ",development!$D$2:$D$92,1)-1),LEN(LEFT(development!$D$2:$D$92,SEARCH(" ",development!$D$2:$D$92,1)-1))-SEARCH("/",development!$D$2:$D$92,SEARCH("/",development!$D$2:$D$92,1)+1)),LEFT(LEFT(development!$D$2:$D$92,SEARCH(" ",development!$D$2:$D$92,1)-1),SEARCH("/",LEFT(development!$D$2:$D$92,SEARCH(" ",development!$D$2:$D$92,1)-1),1)-1),TRIM(MID(SUBSTITUTE(LEFT(development!$D$2:$D$92,SEARCH(" ",development!$D$2:$D$92,1)-1),"/",REPT(" ",99)),100,99)))=M$3)*(development!$E$2:$E$92=N$4),0)),"")} | O5: {=IFERROR(INDEX(RIGHT(development!$D$2:$D$92,LEN(development!$D$2:$D$92)-SEARCH(" ",development!$D$2:$D$92)),MATCH(1,(development!$A$2:$A$92=$D5)*(development!$C$2:$C$92=$B5)*(development!$B$2:$B$92=$C5)*(DATE(RIGHT(LEFT(development!$D$2:$D$92,SEARCH(" ",development!$D$2:$D$92,1)-1),LEN(LEFT(development!$D$2:$D$92,SEARCH(" ",development!$D$2:$D$92,1)-1))-SEARCH("/",development!$D$2:$D$92,SEARCH("/",development!$D$2:$D$92,1)+1)),LEFT(LEFT(development!$D$2:$D$92,SEARCH(" ",development!$D$2:$D$92,1)-1),SEARCH("/",LEFT(development!$D$2:$D$92,SEARCH(" ",development!$D$2:$D$92,1)-1),1)-1),TRIM(MID(SUBSTITUTE(LEFT(development!$D$2:$D$92,SEARCH(" ",development!$D$2:$D$92,1)-1),"/",REPT(" ",99)),100,99)))=O$3)*(development!$E$2:$E$92=O$4),0)),"")} | P5: {=IFERROR(INDEX(RIGHT(development!$D$2:$D$92,LEN(development!$D$2:$D$92)-SEARCH(" ",development!$D$2:$D$92)),MATCH(1,(development!$A$2:$A$92=$D5)*(development!$C$2:$C$92=$B5)*(development!$B$2:$B$92=$C5)*(DATE(RIGHT(LEFT(development!$D$2:$D$92,SEARCH(" ",development!$D$2:$D$92,1)-1),LEN(LEFT(development!$D$2:$D$92,SEARCH(" ",development!$D$2:$D$92,1)-1))-SEARCH("/",development!$D$2:$D$92,SEARCH("/",development!$D$2:$D$92,1)+1)),LEFT(LEFT(development!$D$2:$D$92,SEARCH(" ",development!$D$2:$D$92,1)-1),SEARCH("/",LEFT(development!$D$2:$D$92,SEARCH(" ",development!$D$2:$D$92,1)-1),1)-1),TRIM(MID(SUBSTITUTE(LEFT(development!$D$2:$D$92,SEARCH(" ",development!$D$2:$D$92,1)-1),"/",REPT(" ",99)),100,99)))=O$3)*(development!$E$2:$E$92=P$4),0)),"")}
A6: 2 | B6: 202130327 | C6: HEPPI WULANSARI | D6: DEVELOPMENT | E6: {=IFERROR(INDEX(RIGHT(development!$D$2:$D$92,LEN(development!$D$2:$D$92)-SEARCH(" ",development!$D$2:$D$92)),MATCH(1,(development!$A$2:$A$92=$D6)*(development!$C$2:$C$92=$B6)*(development!$B$2:$B$92=$C6)*(DATE(RIGHT(LEFT(development!$D$2:$D$92,SEARCH(" ",development!$D$2:$D$92,1)-1),LEN(LEFT(development!$D$2:$D$92,SEARCH(" ",development!$D$2:$D$92,1)-1))-SEARCH("/",development!$D$2:$D$92,SEARCH("/",development!$D$2:$D$92,1)+1)),LEFT(LEFT(development!$D$2:$D$92,SEARCH(" ",development!$D$2:$D$92,1)-1),SEARCH("/",LEFT(development!$D$2:$D$92,SEARCH(" ",development!$D$2:$D$92,1)-1),1)-1),TRIM(MID(SUBSTITUTE(LEFT(development!$D$2:$D$92,SEARCH(" ",development!$D$2:$D$92,1)-1),"/",REPT(" ",99)),100,99)))=E$3)*(development!$E$2:$E$92=E$4),0)),"")} -> 8:05:01 AM | F6: {=IFERROR(INDEX(RIGHT(development!$D$2:$D$92,LEN(development!$D$2:$D$92)-SEARCH(" ",development!$D$2:$D$92)),MATCH(1,(development!$A$2:$A$92=$D6)*(development!$C$2:$C$92=$B6)*(development!$B$2:$B$92=$C6)*(DATE(RIGHT(LEFT(development!$D$2:$D$92,SEARCH(" ",development!$D$2:$D$92,1)-1),LEN(LEFT(development!$D$2:$D$92,SEARCH(" ",development!$D$2:$D$92,1)-1))-SEARCH("/",development!$D$2:$D$92,SEARCH("/",development!$D$2:$D$92,1)+1)),LEFT(LEFT(development!$D$2:$D$92,SEARCH(" ",development!$D$2:$D$92,1)-1),SEARCH("/",LEFT(development!$D$2:$D$92,SEARCH(" ",development!$D$2:$D$92,1)-1),1)-1),TRIM(MID(SUBSTITUTE(LEFT(development!$D$2:$D$92,SEARCH(" ",development!$D$2:$D$92,1)-1),"/",REPT(" ",99)),100,99)))=E$3)*(development!$E$2:$E$92=F$4),0)),"")} -> 4:44:35 PM | G6: {=IFERROR(INDEX(RIGHT(development!$D$2:$D$92,LEN(development!$D$2:$D$92)-SEARCH(" ",development!$D$2:$D$92)),MATCH(1,(development!$A$2:$A$92=$D6)*(development!$C$2:$C$92=$B6)*(development!$B$2:$B$92=$C6)*(DATE(RIGHT(LEFT(development!$D$2:$D$92,SEARCH(" ",development!$D$2:$D$92,1)-1),LEN(LEFT(development!$D$2:$D$92,SEARCH(" ",development!$D$2:$D$92,1)-1))-SEARCH("/",development!$D$2:$D$92,SEARCH("/",development!$D$2:$D$92,1)+1)),LEFT(LEFT(development!$D$2:$D$92,SEARCH(" ",development!$D$2:$D$92,1)-1),SEARCH("/",LEFT(development!$D$2:$D$92,SEARCH(" ",development!$D$2:$D$92,1)-1),1)-1),TRIM(MID(SUBSTITUTE(LEFT(development!$D$2:$D$92,SEARCH(" ",development!$D$2:$D$92,1)-1),"/",REPT(" ",99)),100,99)))=G$3)*(development!$E$2:$E$92=G$4),0)),"")} -> 8:06:35 AM | H6: {=IFERROR(INDEX(RIGHT(development!$D$2:$D$92,LEN(development!$D$2:$D$92)-SEARCH(" ",development!$D$2:$D$92)),MATCH(1,(development!$A$2:$A$92=$D6)*(development!$C$2:$C$92=$B6)*(development!$B$2:$B$92=$C6)*(DATE(RIGHT(LEFT(development!$D$2:$D$92,SEARCH(" ",development!$D$2:$D$92,1)-1),LEN(LEFT(development!$D$2:$D$92,SEARCH(" ",development!$D$2:$D$92,1)-1))-SEARCH("/",development!$D$2:$D$92,SEARCH("/",development!$D$2:$D$92,1)+1)),LEFT(LEFT(development!$D$2:$D$92,SEARCH(" ",development!$D$2:$D$92,1)-1),SEARCH("/",LEFT(development!$D$2:$D$92,SEARCH(" ",development!$D$2:$D$92,1)-1),1)-1),TRIM(MID(SUBSTITUTE(LEFT(development!$D$2:$D$92,SEARCH(" ",development!$D$2:$D$92,1)-1),"/",REPT(" ",99)),100,99)))=G$3)*(development!$E$2:$E$92=H$4),0)),"")} -> 5:14:06 PM | I6: {=IFERROR(INDEX(RIGHT(development!$D$2:$D$92,LEN(development!$D$2:$D$92)-SEARCH(" ",development!$D$2:$D$92)),MATCH(1,(development!$A$2:$A$92=$D6)*(development!$C$2:$C$92=$B6)*(development!$B$2:$B$92=$C6)*(DATE(RIGHT(LEFT(development!$D$2:$D$92,SEARCH(" ",development!$D$2:$D$92,1)-1),LEN(LEFT(development!$D$2:$D$92,SEARCH(" ",development!$D$2:$D$92,1)-1))-SEARCH("/",development!$D$2:$D$92,SEARCH("/",development!$D$2:$D$92,1)+1)),LEFT(LEFT(development!$D$2:$D$92,SEARCH(" ",development!$D$2:$D$92,1)-1),SEARCH("/",LEFT(development!$D$2:$D$92,SEARCH(" ",development!$D$2:$D$92,1)-1),1)-1),TRIM(MID(SUBSTITUTE(LEFT(development!$D$2:$D$92,SEARCH(" ",development!$D$2:$D$92,1)-1),"/",REPT(" ",99)),100,99)))=I$3)*(development!$E$2:$E$92=I$4),0)),"")} -> 7:57:44 AM | J6: {=IFERROR(INDEX(RIGHT(development!$D$2:$D$92,LEN(development!$D$2:$D$92)-SEARCH(" ",development!$D$2:$D$92)),MATCH(1,(development!$A$2:$A$92=$D6)*(development!$C$2:$C$92=$B6)*(development!$B$2:$B$92=$C6)*(DATE(RIGHT(LEFT(development!$D$2:$D$92,SEARCH(" ",development!$D$2:$D$92,1)-1),LEN(LEFT(development!$D$2:$D$92,SEARCH(" ",development!$D$2:$D$92,1)-1))-SEARCH("/",development!$D$2:$D$92,SEARCH("/",development!$D$2:$D$92,1)+1)),LEFT(LEFT(development!$D$2:$D$92,SEARCH(" ",development!$D$2:$D$92,1)-1),SEARCH("/",LEFT(development!$D$2:$D$92,SEARCH(" ",development!$D$2:$D$92,1)-1),1)-1),TRIM(MID(SUBSTITUTE(LEFT(development!$D$2:$D$92,SEARCH(" ",development!$D$2:$D$92,1)-1),"/",REPT(" ",99)),100,99)))=I$3)*(development!$E$2:$E$92=J$4),0)),"")} -> 4:46:10 PM | K6: {=IFERROR(INDEX(RIGHT(development!$D$2:$D$92,LEN(development!$D$2:$D$92)-SEARCH(" ",development!$D$2:$D$92)),MATCH(1,(development!$A$2:$A$92=$D6)*(development!$C$2:$C$92=$B6)*(development!$B$2:$B$92=$C6)*(DATE(RIGHT(LEFT(development!$D$2:$D$92,SEARCH(" ",development!$D$2:$D$92,1)-1),LEN(LEFT(development!$D$2:$D$92,SEARCH(" ",development!$D$2:$D$92,1)-1))-SEARCH("/",development!$D$2:$D$92,SEARCH("/",development!$D$2:$D$92,1)+1)),LEFT(LEFT(development!$D$2:$D$92,SEARCH(" ",development!$D$2:$D$92,1)-1),SEARCH("/",LEFT(development!$D$2:$D$92,SEARCH(" ",development!$D$2:$D$92,1)-1),1)-1),TRIM(MID(SUBSTITUTE(LEFT(development!$D$2:$D$92,SEARCH(" ",development!$D$2:$D$92,1)-1),"/",REPT(" ",99)),100,99)))=K$3)*(development!$E$2:$E$92=K$4),0)),"")} -> 8:01:19 AM | L6: {=IFERROR(INDEX(RIGHT(development!$D$2:$D$92,LEN(development!$D$2:$D$92)-SEARCH(" ",development!$D$2:$D$92)),MATCH(1,(development!$A$2:$A$92=$D6)*(development!$C$2:$C$92=$B6)*(development!$B$2:$B$92=$C6)*(DATE(RIGHT(LEFT(development!$D$2:$D$92,SEARCH(" ",development!$D$2:$D$92,1)-1),LEN(LEFT(development!$D$2:$D$92,SEARCH(" ",development!$D$2:$D$92,1)-1))-SEARCH("/",development!$D$2:$D$92,SEARCH("/",development!$D$2:$D$92,1)+1)),LEFT(LEFT(development!$D$2:$D$92,SEARCH(" ",development!$D$2:$D$92,1)-1),SEARCH("/",LEFT(development!$D$2:$D$92,SEARCH(" ",development!$D$2:$D$92,1)-1),1)-1),TRIM(MID(SUBSTITUTE(LEFT(development!$D$2:$D$92,SEARCH(" ",development!$D$2:$D$92,1)-1),"/",REPT(" ",99)),100,99)))=K$3)*(development!$E$2:$E$92=L$4),0)),"")} -> 5:15:03 PM | M6: {=IFERROR(INDEX(RIGHT(development!$D$2:$D$92,LEN(development!$D$2:$D$92)-SEARCH(" ",development!$D$2:$D$92)),MATCH(1,(development!$A$2:$A$92=$D6)*(development!$C$2:$C$92=$B6)*(development!$B$2:$B$92=$C6)*(DATE(RIGHT(LEFT(development!$D$2:$D$92,SEARCH(" ",development!$D$2:$D$92,1)-1),LEN(LEFT(development!$D$2:$D$92,SEARCH(" ",development!$D$2:$D$92,1)-1))-SEARCH("/",development!$D$2:$D$92,SEARCH("/",development!$D$2:$D$92,1)+1)),LEFT(LEFT(development!$D$2:$D$92,SEARCH(" ",development!$D$2:$D$92,1)-1),SEARCH("/",LEFT(development!$D$2:$D$92,SEARCH(" ",development!$D$2:$D$92,1)-1),1)-1),TRIM(MID(SUBSTITUTE(LEFT(development!$D$2:$D$92,SEARCH(" ",development!$D$2:$D$92,1)-1),"/",REPT(" ",99)),100,99)))=M$3)*(development!$E$2:$E$92=M$4),0)),"")} -> 8:00:53 AM | N6: {=IFERROR(INDEX(RIGHT(development!$D$2:$D$92,LEN(development!$D$2:$D$92)-SEARCH(" ",development!$D$2:$D$92)),MATCH(1,(development!$A$2:$A$92=$D6)*(development!$C$2:$C$92=$B6)*(development!$B$2:$B$92=$C6)*(DATE(RIGHT(LEFT(development!$D$2:$D$92,SEARCH(" ",development!$D$2:$D$92,1)-1),LEN(LEFT(development!$D$2:$D$92,SEARCH(" ",development!$D$2:$D$92,1)-1))-SEARCH("/",development!$D$2:$D$92,SEARCH("/",development!$D$2:$D$92,1)+1)),LEFT(LEFT(development!$D$2:$D$92,SEARCH(" ",development!$D$2:$D$92,1)-1),SEARCH("/",LEFT(development!$D$2:$D$92,SEARCH(" ",development!$D$2:$D$92,1)-1),1)-1),TRIM(MID(SUBSTITUTE(LEFT(development!$D$2:$D$92,SEARCH(" ",development!$D$2:$D$92,1)-1),"/",REPT(" ",99)),100,99)))=M$3)*(development!$E$2:$E$92=N$4),0)),"")} -> 5:21:11 PM | O6: {=IFERROR(INDEX(RIGHT(development!$D$2:$D$92,LEN(development!$D$2:$D$92)-SEARCH(" ",development!$D$2:$D$92)),MATCH(1,(development!$A$2:$A$92=$D6)*(development!$C$2:$C$92=$B6)*(development!$B$2:$B$92=$C6)*(DATE(RIGHT(LEFT(development!$D$2:$D$92,SEARCH(" ",development!$D$2:$D$92,1)-1),LEN(LEFT(development!$D$2:$D$92,SEARCH(" ",development!$D$2:$D$92,1)-1))-SEARCH("/",development!$D$2:$D$92,SEARCH("/",development!$D$2:$D$92,1)+1)),LEFT(LEFT(development!$D$2:$D$92,SEARCH(" ",development!$D$2:$D$92,1)-1),SEARCH("/",LEFT(development!$D$2:$D$92,SEARCH(" ",development!$D$2:$D$92,1)-1),1)-1),TRIM(MID(SUBSTITUTE(LEFT(development!$D$2:$D$92,SEARCH(" ",development!$D$2:$D$92,1)-1),"/",REPT(" ",99)),100,99)))=O$3)*(development!$E$2:$E$92=O$4),0)),"")} | P6: {=IFERROR(INDEX(RIGHT(development!$D$2:$D$92,LEN(development!$D$2:$D$92)-SEARCH(" ",development!$D$2:$D$92)),MATCH(1,(development!$A$2:$A$92=$D6)*(development!$C$2:$C$92=$B6)*(development!$B$2:$B$92=$C6)*(DATE(RIGHT(LEFT(development!$D$2:$D$92,SEARCH(" ",development!$D$2:$D$92,1)-1),LEN(LEFT(development!$D$2:$D$92,SEARCH(" ",development!$D$2:$D$92,1)-1))-SEARCH("/",development!$D$2:$D$92,SEARCH("/",development!$D$2:$D$92,1)+1)),LEFT(LEFT(development!$D$2:$D$92,SEARCH(" ",development!$D$2:$D$92,1)-1),SEARCH("/",LEFT(development!$D$2:$D$92,SEARCH(" ",development!$D$2:$D$92,1)-1),1)-1),TRIM(MID(SUBSTITUTE(LEFT(development!$D$2:$D$92,SEARCH(" ",development!$D$2:$D$92,1)-1),"/",REPT(" ",99)),100,99)))=O$3)*(development!$E$2:$E$92=P$4),0)),"")}
A7: 3 | B7: 205100125 | C7: FITRI KRISTINAH | D7: DEVELOPMENT | E7: {=IFERROR(INDEX(RIGHT(development!$D$2:$D$92,LEN(development!$D$2:$D$92)-SEARCH(" ",development!$D$2:$D$92)),MATCH(1,(development!$A$2:$A$92=$D7)*(development!$C$2:$C$92=$B7)*(development!$B$2:$B$92=$C7)*(DATE(RIGHT(LEFT(development!$D$2:$D$92,SEARCH(" ",development!$D$2:$D$92,1)-1),LEN(LEFT(development!$D$2:$D$92,SEARCH(" ",development!$D$2:$D$92,1)-1))-SEARCH("/",development!$D$2:$D$92,SEARCH("/",development!$D$2:$D$92,1)+1)),LEFT(LEFT(development!$D$2:$D$92,SEARCH(" ",development!$D$2:$D$92,1)-1),SEARCH("/",LEFT(development!$D$2:$D$92,SEARCH(" ",development!$D$2:$D$92,1)-1),1)-1),TRIM(MID(SUBSTITUTE(LEFT(development!$D$2:$D$92,SEARCH(" ",development!$D$2:$D$92,1)-1),"/",REPT(" ",99)),100,99)))=E$3)*(development!$E$2:$E$92=E$4),0)),"")} -> 7:53:51 AM | F7: {=IFERROR(INDEX(RIGHT(development!$D$2:$D$92,LEN(development!$D$2:$D$92)-SEARCH(" ",development!$D$2:$D$92)),MATCH(1,(development!$A$2:$A$92=$D7)*(development!$C$2:$C$92=$B7)*(development!$B$2:$B$92=$C7)*(DATE(RIGHT(LEFT(development!$D$2:$D$92,SEARCH(" ",development!$D$2:$D$92,1)-1),LEN(LEFT(development!$D$2:$D$92,SEARCH(" ",development!$D$2:$D$92,1)-1))-SEARCH("/",development!$D$2:$D$92,SEARCH("/",development!$D$2:$D$92,1)+1)),LEFT(LEFT(development!$D$2:$D$92,SEARCH(" ",development!$D$2:$D$92,1)-1),SEARCH("/",LEFT(development!$D$2:$D$92,SEARCH(" ",development!$D$2:$D$92,1)-1),1)-1),TRIM(MID(SUBSTITUTE(LEFT(development!$D$2:$D$92,SEARCH(" ",development!$D$2:$D$92,1)-1),"/",REPT(" ",99)),100,99)))=E$3)*(development!$E$2:$E$92=F$4),0)),"")} -> 4:48:38 PM | G7: {=IFERROR(INDEX(RIGHT(development!$D$2:$D$92,LEN(development!$D$2:$D$92)-SEARCH(" ",development!$D$2:$D$92)),MATCH(1,(development!$A$2:$A$92=$D7)*(development!$C$2:$C$92=$B7)*(development!$B$2:$B$92=$C7)*(DATE(RIGHT(LEFT(development!$D$2:$D$92,SEARCH(" ",development!$D$2:$D$92,1)-1),LEN(LEFT(development!$D$2:$D$92,SEARCH(" ",development!$D$2:$D$92,1)-1))-SEARCH("/",development!$D$2:$D$92,SEARCH("/",development!$D$2:$D$92,1)+1)),LEFT(LEFT(development!$D$2:$D$92,SEARCH(" ",development!$D$2:$D$92,1)-1),SEARCH("/",LEFT(development!$D$2:$D$92,SEARCH(" ",development!$D$2:$D$92,1)-1),1)-1),TRIM(MID(SUBSTITUTE(LEFT(development!$D$2:$D$92,SEARCH(" ",development!$D$2:$D$92,1)-1),"/",REPT(" ",99)),100,99)))=G$3)*(development!$E$2:$E$92=G$4),0)),"")} -> 7:48:17 AM | H7: {=IFERROR(INDEX(RIGHT(development!$D$2:$D$92,LEN(development!$D$2:$D$92)-SEARCH(" ",development!$D$2:$D$92)),MATCH(1,(development!$A$2:$A$92=$D7)*(development!$C$2:$C$92=$B7)*(development!$B$2:$B$92=$C7)*(DATE(RIGHT(LEFT(development!$D$2:$D$92,SEARCH(" ",development!$D$2:$D$92,1)-1),LEN(LEFT(development!$D$2:$D$92,SEARCH(" ",development!$D$2:$D$92,1)-1))-SEARCH("/",development!$D$2:$D$92,SEARCH("/",development!$D$2:$D$92,1)+1)),LEFT(LEFT(development!$D$2:$D$92,SEARCH(" ",development!$D$2:$D$92,1)-1),SEARCH("/",LEFT(development!$D$2:$D$92,SEARCH(" ",development!$D$2:$D$92,1)-1),1)-1),TRIM(MID(SUBSTITUTE(LEFT(development!$D$2:$D$92,SEARCH(" ",development!$D$2:$D$92,1)-1),"/",REPT(" ",99)),100,99)))=G$3)*(development!$E$2:$E$92=H$4),0)),"")} -> 4:54:39 PM | I7: {=IFERROR(INDEX(RIGHT(development!$D$2:$D$92,LEN(development!$D$2:$D$92)-SEARCH(" ",development!$D$2:$D$92)),MATCH(1,(development!$A$2:$A$92=$D7)*(development!$C$2:$C$92=$B7)*(development!$B$2:$B$92=$C7)*(DATE(RIGHT(LEFT(development!$D$2:$D$92,SEARCH(" ",development!$D$2:$D$92,1)-1),LEN(LEFT(development!$D$2:$D$92,SEARCH(" ",development!$D$2:$D$92,1)-1))-SEARCH("/",development!$D$2:$D$92,SEARCH("/",development!$D$2:$D$92,1)+1)),LEFT(LEFT(development!$D$2:$D$92,SEARCH(" ",development!$D$2:$D$92,1)-1),SEARCH("/",LEFT(development!$D$2:$D$92,SEARCH(" ",development!$D$2:$D$92,1)-1),1)-1),TRIM(MID(SUBSTITUTE(LEFT(development!$D$2:$D$92,SEARCH(" ",development!$D$2:$D$92,1)-1),"/",REPT(" ",99)),100,99)))=I$3)*(development!$E$2:$E$92=I$4),0)),"")} -> 7:48:13 AM | J7: {=IFERROR(INDEX(RIGHT(development!$D$2:$D$92,LEN(development!$D$2:$D$92)-SEARCH(" ",development!$D$2:$D$92)),MATCH(1,(development!$A$2:$A$92=$D7)*(development!$C$2:$C$92=$B7)*(development!$B$2:$B$92=$C7)*(DATE(RIGHT(LEFT(development!$D$2:$D$92,SEARCH(" ",development!$D$2:$D$92,1)-1),LEN(LEFT(development!$D$2:$D$92,SEARCH(" ",development!$D$2:$D$92,1)-1))-SEARCH("/",development!$D$2:$D$92,SEARCH("/",development!$D$2:$D$92,1)+1)),LEFT(LEFT(development!$D$2:$D$92,SEARCH(" ",development!$D$2:$D$92,1)-1),SEARCH("/",LEFT(development!$D$2:$D$92,SEARCH(" ",development!$D$2:$D$92,1)-1),1)-1),TRIM(MID(SUBSTITUTE(LEFT(development!$D$2:$D$92,SEARCH(" ",development!$D$2:$D$92,1)-1),"/",REPT(" ",99)),100,99)))=I$3)*(development!$E$2:$E$92=J$4),0)),"")} -> 5:01:50 PM | K7: {=IFERROR(INDEX(RIGHT(development!$D$2:$D$92,LEN(development!$D$2:$D$92)-SEARCH(" ",development!$D$2:$D$92)),MATCH(1,(development!$A$2:$A$92=$D7)*(development!$C$2:$C$92=$B7)*(development!$B$2:$B$92=$C7)*(DATE(RIGHT(LEFT(development!$D$2:$D$92,SEARCH(" ",development!$D$2:$D$92,1)-1),LEN(LEFT(development!$D$2:$D$92,SEARCH(" ",development!$D$2:$D$92,1)-1))-SEARCH("/",development!$D$2:$D$92,SEARCH("/",development!$D$2:$D$92,1)+1)),LEFT(LEFT(development!$D$2:$D$92,SEARCH(" ",development!$D$2:$D$92,1)-1),SEARCH("/",LEFT(development!$D$2:$D$92,SEARCH(" ",development!$D$2:$D$92,1)-1),1)-1),TRIM(MID(SUBSTITUTE(LEFT(development!$D$2:$D$92,SEARCH(" ",development!$D$2:$D$92,1)-1),"/",REPT(" ",99)),100,99)))=K$3)*(development!$E$2:$E$92=K$4),0)),"")} -> 7:44:14 AM | L7: {=IFERROR(INDEX(RIGHT(development!$D$2:$D$92,LEN(development!$D$2:$D$92)-SEARCH(" ",development!$D$2:$D$92)),MATCH(1,(development!$A$2:$A$92=$D7)*(development!$C$2:$C$92=$B7)*(development!$B$2:$B$92=$C7)*(DATE(RIGHT(LEFT(development!$D$2:$D$92,SEARCH(" ",development!$D$2:$D$92,1)-1),LEN(LEFT(development!$D$2:$D$92,SEARCH(" ",development!$D$2:$D$92,1)-1))-SEARCH("/",development!$D$2:$D$92,SEARCH("/",development!$D$2:$D$92,1)+1)),LEFT(LEFT(development!$D$2:$D$92,SEARCH(" ",development!$D$2:$D$92,1)-1),SEARCH("/",LEFT(development!$D$2:$D$92,SEARCH(" ",development!$D$2:$D$92,1)-1),1)-1),TRIM(MID(SUBSTITUTE(LEFT(development!$D$2:$D$92,SEARCH(" ",development!$D$2:$D$92,1)-1),"/",REPT(" ",99)),100,99)))=K$3)*(development!$E$2:$E$92=L$4),0)),"")} -> 5:14:53 PM | M7: {=IFERROR(INDEX(RIGHT(development!$D$2:$D$92,LEN(development!$D$2:$D$92)-SEARCH(" ",development!$D$2:$D$92)),MATCH(1,(development!$A$2:$A$92=$D7)*(development!$C$2:$C$92=$B7)*(development!$B$2:$B$92=$C7)*(DATE(RIGHT(LEFT(development!$D$2:$D$92,SEARCH(" ",development!$D$2:$D$92,1)-1),LEN(LEFT(development!$D$2:$D$92,SEARCH(" ",development!$D$2:$D$92,1)-1))-SEARCH("/",development!$D$2:$D$92,SEARCH("/",development!$D$2:$D$92,1)+1)),LEFT(LEFT(development!$D$2:$D$92,SEARCH(" ",development!$D$2:$D$92,1)-1),SEARCH("/",LEFT(development!$D$2:$D$92,SEARCH(" ",development!$D$2:$D$92,1)-1),1)-1),TRIM(MID(SUBSTITUTE(LEFT(development!$D$2:$D$92,SEARCH(" ",development!$D$2:$D$92,1)-1),"/",REPT(" ",99)),100,99)))=M$3)*(development!$E$2:$E$92=M$4),0)),"")} -> 7:51:33 AM | N7: {=IFERROR(INDEX(RIGHT(development!$D$2:$D$92,LEN(development!$D$2:$D$92)-SEARCH(" ",development!$D$2:$D$92)),MATCH(1,(development!$A$2:$A$92=$D7)*(development!$C$2:$C$92=$B7)*(development!$B$2:$B$92=$C7)*(DATE(RIGHT(LEFT(development!$D$2:$D$92,SEARCH(" ",development!$D$2:$D$92,1)-1),LEN(LEFT(development!$D$2:$D$92,SEARCH(" ",development!$D$2:$D$92,1)-1))-SEARCH("/",development!$D$2:$D$92,SEARCH("/",development!$D$2:$D$92,1)+1)),LEFT(LEFT(development!$D$2:$D$92,SEARCH(" ",development!$D$2:$D$92,1)-1),SEARCH("/",LEFT(development!$D$2:$D$92,SEARCH(" ",development!$D$2:$D$92,1)-1),1)-1),TRIM(MID(SUBSTITUTE(LEFT(development!$D$2:$D$92,SEARCH(" ",development!$D$2:$D$92,1)-1),"/",REPT(" ",99)),100,99)))=M$3)*(development!$E$2:$E$92=N$4),0)),"")} -> 5:21:00 PM | O7: {=IFERROR(INDEX(RIGHT(development!$D$2:$D$92,LEN(development!$D$2:$D$92)-SEARCH(" ",development!$D$2:$D$92)),MATCH(1,(development!$A$2:$A$92=$D7)*(development!$C$2:$C$92=$B7)*(development!$B$2:$B$92=$C7)*(DATE(RIGHT(LEFT(development!$D$2:$D$92,SEARCH(" ",development!$D$2:$D$92,1)-1),LEN(LEFT(development!$D$2:$D$92,SEARCH(" ",development!$D$2:$D$92,1)-1))-SEARCH("/",development!$D$2:$D$92,SEARCH("/",development!$D$2:$D$92,1)+1)),LEFT(LEFT(development!$D$2:$D$92,SEARCH(" ",development!$D$2:$D$92,1)-1),SEARCH("/",LEFT(development!$D$2:$D$92,SEARCH(" ",development!$D$2:$D$92,1)-1),1)-1),TRIM(MID(SUBSTITUTE(LEFT(development!$D$2:$D$92,SEARCH(" ",development!$D$2:$D$92,1)-1),"/",REPT(" ",99)),100,99)))=O$3)*(development!$E$2:$E$92=O$4),0)),"")} | P7: {=IFERROR(INDEX(RIGHT(development!$D$2:$D$92,LEN(development!$D$2:$D$92)-SEARCH(" ",development!$D$2:$D$92)),MATCH(1,(development!$A$2:$A$92=$D7)*(development!$C$2:$C$92=$B7)*(development!$B$2:$B$92=$C7)*(DATE(RIGHT(LEFT(development!$D$2:$D$92,SEARCH(" ",development!$D$2:$D$92,1)-1),LEN(LEFT(development!$D$2:$D$92,SEARCH(" ",development!$D$2:$D$92,1)-1))-SEARCH("/",development!$D$2:$D$92,SEARCH("/",development!$D$2:$D$92,1)+1)),LEFT(LEFT(development!$D$2:$D$92,SEARCH(" ",development!$D$2:$D$92,1)-1),SEARCH("/",LEFT(development!$D$2:$D$92,SEARCH(" ",development!$D$2:$D$92,1)-1),1)-1),TRIM(MID(SUBSTITUTE(LEFT(development!$D$2:$D$92,SEARCH(" ",development!$D$2:$D$92,1)-1),"/",REPT(" ",99)),100,99)))=O$3)*(development!$E$2:$E$92=P$4),0)),"")}
A8: 4 | B8: 206130428 | C8: RISNA YUNIARTI | D8: DEVELOPMENT | E8: {=IFERROR(INDEX(RIGHT(development!$D$2:$D$92,LEN(development!$D$2:$D$92)-SEARCH(" ",development!$D$2:$D$92)),MATCH(1,(development!$A$2:$A$92=$D8)*(development!$C$2:$C$92=$B8)*(development!$B$2:$B$92=$C8)*(DATE(RIGHT(LEFT(development!$D$2:$D$92,SEARCH(" ",development!$D$2:$D$92,1)-1),LEN(LEFT(development!$D$2:$D$92,SEARCH(" ",development!$D$2:$D$92,1)-1))-SEARCH("/",development!$D$2:$D$92,SEARCH("/",development!$D$2:$D$92,1)+1)),LEFT(LEFT(development!$D$2:$D$92,SEARCH(" ",development!$D$2:$D$92,1)-1),SEARCH("/",LEFT(development!$D$2:$D$92,SEARCH(" ",development!$D$2:$D$92,1)-1),1)-1),TRIM(MID(SUBSTITUTE(LEFT(development!$D$2:$D$92,SEARCH(" ",development!$D$2:$D$92,1)-1),"/",REPT(" ",99)),100,99)))=E$3)*(development!$E$2:$E$92=E$4),0)),"")} -> 8:02:19 AM | F8: {=IFERROR(INDEX(RIGHT(development!$D$2:$D$92,LEN(development!$D$2:$D$92)-SEARCH(" ",development!$D$2:$D$92)),MATCH(1,(development!$A$2:$A$92=$D8)*(development!$C$2:$C$92=$B8)*(development!$B$2:$B$92=$C8)*(DATE(RIGHT(LEFT(development!$D$2:$D$92,SEARCH(" ",development!$D$2:$D$92,1)-1),LEN(LEFT(development!$D$2:$D$92,SEARCH(" ",development!$D$2:$D$92,1)-1))-SEARCH("/",development!$D$2:$D$92,SEARCH("/",development!$D$2:$D$92,1)+1)),LEFT(LEFT(development!$D$2:$D$92,SEARCH(" ",development!$D$2:$D$92,1)-1),SEARCH("/",LEFT(development!$D$2:$D$92,SEARCH(" ",development!$D$2:$D$92,1)-1),1)-1),TRIM(MID(SUBSTITUTE(LEFT(development!$D$2:$D$92,SEARCH(" ",development!$D$2:$D$92,1)-1),"/",REPT(" ",99)),100,99)))=E$3)*(development!$E$2:$E$92=F$4),0)),"")} -> 4:45:39 PM | G8: {=IFERROR(INDEX(RIGHT(development!$D$2:$D$92,LEN(development!$D$2:$D$92)-SEARCH(" ",development!$D$2:$D$92)),MATCH(1,(development!$A$2:$A$92=$D8)*(development!$C$2:$C$92=$B8)*(development!$B$2:$B$92=$C8)*(DATE(RIGHT(LEFT(development!$D$2:$D$92,SEARCH(" ",development!$D$2:$D$92,1)-1),LEN(LEFT(development!$D$2:$D$92,SEARCH(" ",development!$D$2:$D$92,1)-1))-SEARCH("/",development!$D$2:$D$92,SEARCH("/",development!$D$2:$D$92,1)+1)),LEFT(LEFT(development!$D$2:$D$92,SEARCH(" ",development!$D$2:$D$92,1)-1),SEARCH("/",LEFT(development!$D$2:$D$92,SEARCH(" ",development!$D$2:$D$92,1)-1),1)-1),TRIM(MID(SUBSTITUTE(LEFT(development!$D$2:$D$92,SEARCH(" ",development!$D$2:$D$92,1)-1),"/",REPT(" ",99)),100,99)))=G$3)*(development!$E$2:$E$92=G$4),0)),"")} -> 8:07:24 AM | H8: {=IFERROR(INDEX(RIGHT(development!$D$2:$D$92,LEN(development!$D$2:$D$92)-SEARCH(" ",development!$D$2:$D$92)),MATCH(1,(development!$A$2:$A$92=$D8)*(development!$C$2:$C$92=$B8)*(development!$B$2:$B$92=$C8)*(DATE(RIGHT(LEFT(development!$D$2:$D$92,SEARCH(" ",development!$D$2:$D$92,1)-1),LEN(LEFT(development!$D$2:$D$92,SEARCH(" ",development!$D$2:$D$92,1)-1))-SEARCH("/",development!$D$2:$D$92,SEARCH("/",development!$D$2:$D$92,1)+1)),LEFT(LEFT(development!$D$2:$D$92,SEARCH(" ",development!$D$2:$D$92,1)-1),SEARCH("/",LEFT(development!$D$2:$D$92,SEARCH(" ",development!$D$2:$D$92,1)-1),1)-1),TRIM(MID(SUBSTITUTE(LEFT(development!$D$2:$D$92,SEARCH(" ",development!$D$2:$D$92,1)-1),"/",REPT(" ",99)),100,99)))=G$3)*(development!$E$2:$E$92=H$4),0)),"")} -> 4:47:37 PM | I8: {=IFERROR(INDEX(RIGHT(development!$D$2:$D$92,LEN(development!$D$2:$D$92)-SEARCH(" ",development!$D$2:$D$92)),MATCH(1,(development!$A$2:$A$92=$D8)*(development!$C$2:$C$92=$B8)*(development!$B$2:$B$92=$C8)*(DATE(RIGHT(LEFT(development!$D$2:$D$92,SEARCH(" ",development!$D$2:$D$92,1)-1),LEN(LEFT(development!$D$2:$D$92,SEARCH(" ",development!$D$2:$D$92,1)-1))-SEARCH("/",development!$D$2:$D$92,SEARCH("/",development!$D$2:$D$92,1)+1)),LEFT(LEFT(development!$D$2:$D$92,SEARCH(" ",development!$D$2:$D$92,1)-1),SEARCH("/",LEFT(development!$D$2:$D$92,SEARCH(" ",development!$D$2:$D$92,1)-1),1)-1),TRIM(MID(SUBSTITUTE(LEFT(development!$D$2:$D$92,SEARCH(" ",development!$D$2:$D$92,1)-1),"/",REPT(" ",99)),100,99)))=I$3)*(development!$E$2:$E$92=I$4),0)),"")} -> 7:26:42 AM | J8: {=IFERROR(INDEX(RIGHT(development!$D$2:$D$92,LEN(development!$D$2:$D$92)-SEARCH(" ",development!$D$2:$D$92)),MATCH(1,(development!$A$2:$A$92=$D8)*(development!$C$2:$C$92=$B8)*(development!$B$2:$B$92=$C8)*(DATE(RIGHT(LEFT(development!$D$2:$D$92,SEARCH(" ",development!$D$2:$D$92,1)-1),LEN(LEFT(development!$D$2:$D$92,SEARCH(" ",development!$D$2:$D$92,1)-1))-SEARCH("/",development!$D$2:$D$92,SEARCH("/",development!$D$2:$D$92,1)+1)),LEFT(LEFT(development!$D$2:$D$92,SEARCH(" ",development!$D$2:$D$92,1)-1),SEARCH("/",LEFT(development!$D$2:$D$92,SEARCH(" ",development!$D$2:$D$92,1)-1),1)-1),TRIM(MID(SUBSTITUTE(LEFT(development!$D$2:$D$92,SEARCH(" ",development!$D$2:$D$92,1)-1),"/",REPT(" ",99)),100,99)))=I$3)*(development!$E$2:$E$92=J$4),0)),"")} -> 4:46:01 PM | K8: {=IFERROR(INDEX(RIGHT(development!$D$2:$D$92,LEN(development!$D$2:$D$92)-SEARCH(" ",development!$D$2:$D$92)),MATCH(1,(development!$A$2:$A$92=$D8)*(development!$C$2:$C$92=$B8)*(development!$B$2:$B$92=$C8)*(DATE(RIGHT(LEFT(development!$D$2:$D$92,SEARCH(" ",development!$D$2:$D$92,1)-1),LEN(LEFT(development!$D$2:$D$92,SEARCH(" ",development!$D$2:$D$92,1)-1))-SEARCH("/",development!$D$2:$D$92,SEARCH("/",development!$D$2:$D$92,1)+1)),LEFT(LEFT(development!$D$2:$D$92,SEARCH(" ",development!$D$2:$D$92,1)-1),SEARCH("/",LEFT(development!$D$2:$D$92,SEARCH(" ",development!$D$2:$D$92,1)-1),1)-1),TRIM(MID(SUBSTITUTE(LEFT(development!$D$2:$D$92,SEARCH(" ",development!$D$2:$D$92,1)-1),"/",REPT(" ",99)),100,99)))=K$3)*(development!$E$2:$E$92=K$4),0)),"")} -> 7:46:54 AM | L8: {=IFERROR(INDEX(RIGHT(development!$D$2:$D$92,LEN(development!$D$2:$D$92)-SEARCH(" ",development!$D$2:$D$92)),MATCH(1,(development!$A$2:$A$92=$D8)*(development!$C$2:$C$92=$B8)*(development!$B$2:$B$92=$C8)*(DATE(RIGHT(LEFT(development!$D$2:$D$92,SEARCH(" ",development!$D$2:$D$92,1)-1),LEN(LEFT(development!$D$2:$D$92,SEARCH(" ",development!$D$2:$D$92,1)-1))-SEARCH("/",development!$D$2:$D$92,SEARCH("/",development!$D$2:$D$92,1)+1)),LEFT(LEFT(development!$D$2:$D$92,SEARCH(" ",development!$D$2:$D$92,1)-1),SEARCH("/",LEFT(development!$D$2:$D$92,SEARCH(" ",development!$D$2:$D$92,1)-1),1)-1),TRIM(MID(SUBSTITUTE(LEFT(development!$D$2:$D$92,SEARCH(" ",development!$D$2:$D$92,1)-1),"/",REPT(" ",99)),100,99)))=K$3)*(development!$E$2:$E$92=L$4),0)),"")} -> 4:53:18 PM | M8: {=IFERROR(INDEX(RIGHT(development!$D$2:$D$92,LEN(development!$D$2:$D$92)-SEARCH(" ",development!$D$2:$D$92)),MATCH(1,(development!$A$2:$A$92=$D8)*(development!$C$2:$C$92=$B8)*(development!$B$2:$B$92=$C8)*(DATE(RIGHT(LEFT(development!$D$2:$D$92,SEARCH(" ",development!$D$2:$D$92,1)-1),LEN(LEFT(development!$D$2:$D$92,SEARCH(" ",development!$D$2:$D$92,1)-1))-SEARCH("/",development!$D$2:$D$92,SEARCH("/",development!$D$2:$D$92,1)+1)),LEFT(LEFT(development!$D$2:$D$92,SEARCH(" ",development!$D$2:$D$92,1)-1),SEARCH("/",LEFT(development!$D$2:$D$92,SEARCH(" ",development!$D$2:$D$92,1)-1),1)-1),TRIM(MID(SUBSTITUTE(LEFT(development!$D$2:$D$92,SEARCH(" ",development!$D$2:$D$92,1)-1),"/",REPT(" ",99)),100,99)))=M$3)*(development!$E$2:$E$92=M$4),0)),"")} -> 7:57:18 AM | N8: {=IFERROR(INDEX(RIGHT(development!$D$2:$D$92,LEN(development!$D$2:$D$92)-SEARCH(" ",development!$D$2:$D$92)),MATCH(1,(development!$A$2:$A$92=$D8)*(development!$C$2:$C$92=$B8)*(development!$B$2:$B$92=$C8)*(DATE(RIGHT(LEFT(development!$D$2:$D$92,SEARCH(" ",development!$D$2:$D$92,1)-1),LEN(LEFT(development!$D$2:$D$92,SEARCH(" ",development!$D$2:$D$92,1)-1))-SEARCH("/",development!$D$2:$D$92,SEARCH("/",development!$D$2:$D$92,1)+1)),LEFT(LEFT(development!$D$2:$D$92,SEARCH(" ",development!$D$2:$D$92,1)-1),SEARCH("/",LEFT(development!$D$2:$D$92,SEARCH(" ",development!$D$2:$D$92,1)-1),1)-1),TRIM(MID(SUBSTITUTE(LEFT(development!$D$2:$D$92,SEARCH(" ",development!$D$2:$D$92,1)-1),"/",REPT(" ",99)),100,99)))=M$3)*(development!$E$2:$E$92=N$4),0)),"")} -> 5:21:21 PM | O8: {=IFERROR(INDEX(RIGHT(development!$D$2:$D$92,LEN(development!$D$2:$D$92)-SEARCH(" ",development!$D$2:$D$92)),MATCH(1,(development!$A$2:$A$92=$D8)*(development!$C$2:$C$92=$B8)*(development!$B$2:$B$92=$C8)*(DATE(RIGHT(LEFT(development!$D$2:$D$92,SEARCH(" ",development!$D$2:$D$92,1)-1),LEN(LEFT(development!$D$2:$D$92,SEARCH(" ",development!$D$2:$D$92,1)-1))-SEARCH("/",development!$D$2:$D$92,SEARCH("/",development!$D$2:$D$92,1)+1)),LEFT(LEFT(development!$D$2:$D$92,SEARCH(" ",development!$D$2:$D$92,1)-1),SEARCH("/",LEFT(development!$D$2:$D$92,SEARCH(" ",development!$D$2:$D$92,1)-1),1)-1),TRIM(MID(SUBSTITUTE(LEFT(development!$D$2:$D$92,SEARCH(" ",development!$D$2:$D$92,1)-1),"/",REPT(" ",99)),100,99)))=O$3)*(development!$E$2:$E$92=O$4),0)),"")} | P8: {=IFERROR(INDEX(RIGHT(development!$D$2:$D$92,LEN(development!$D$2:$D$92)-SEARCH(" ",development!$D$2:$D$92)),MATCH(1,(development!$A$2:$A$92=$D8)*(development!$C$2:$C$92=$B8)*(development!$B$2:$B$92=$C8)*(DATE(RIGHT(LEFT(development!$D$2:$D$92,SEARCH(" ",development!$D$2:$D$92,1)-1),LEN(LEFT(development!$D$2:$D$92,SEARCH(" ",development!$D$2:$D$92,1)-1))-SEARCH("/",development!$D$2:$D$92,SEARCH("/",development!$D$2:$D$92,1)+1)),LEFT(LEFT(development!$D$2:$D$92,SEARCH(" ",development!$D$2:$D$92,1)-1),SEARCH("/",LEFT(development!$D$2:$D$92,SEARCH(" ",development!$D$2:$D$92,1)-1),1)-1),TRIM(MID(SUBSTITUTE(LEFT(development!$D$2:$D$92,SEARCH(" ",development!$D$2:$D$92,1)-1),"/",REPT(" ",99)),100,99)))=O$3)*(development!$E$2:$E$92=P$4),0)),"")}
A9: 5 | B9: 208130465 | C9: TAUFIQ HIDAYAT | D9: DEVELOPMENT | E9: {=IFERROR(INDEX(RIGHT(development!$D$2:$D$92,LEN(development!$D$2:$D$92)-SEARCH(" ",development!$D$2:$D$92)),MATCH(1,(development!$A$2:$A$92=$D9)*(development!$C$2:$C$92=$B9)*(development!$B$2:$B$92=$C9)*(DATE(RIGHT(LEFT(development!$D$2:$D$92,SEARCH(" ",development!$D$2:$D$92,1)-1),LEN(LEFT(development!$D$2:$D$92,SEARCH(" ",development!$D$2:$D$92,1)-1))-SEARCH("/",development!$D$2:$D$92,SEARCH("/",development!$D$2:$D$92,1)+1)),LEFT(LEFT(development!$D$2:$D$92,SEARCH(" ",development!$D$2:$D$92,1)-1),SEARCH("/",LEFT(development!$D$2:$D$92,SEARCH(" ",development!$D$2:$D$92,1)-1),1)-1),TRIM(MID(SUBSTITUTE(LEFT(development!$D$2:$D$92,SEARCH(" ",development!$D$2:$D$92,1)-1),"/",REPT(" ",99)),100,99)))=E$3)*(development!$E$2:$E$92=E$4),0)),"")} -> 7:50:29 AM | F9: {=IFERROR(INDEX(RIGHT(development!$D$2:$D$92,LEN(development!$D$2:$D$92)-SEARCH(" ",development!$D$2:$D$92)),MATCH(1,(development!$A$2:$A$92=$D9)*(development!$C$2:$C$92=$B9)*(development!$B$2:$B$92=$C9)*(DATE(RIGHT(LEFT(development!$D$2:$D$92,SEARCH(" ",development!$D$2:$D$92,1)-1),LEN(LEFT(development!$D$2:$D$92,SEARCH(" ",development!$D$2:$D$92,1)-1))-SEARCH("/",development!$D$2:$D$92,SEARCH("/",development!$D$2:$D$92,1)+1)),LEFT(LEFT(development!$D$2:$D$92,SEARCH(" ",development!$D$2:$D$92,1)-1),SEARCH("/",LEFT(development!$D$2:$D$92,SEARCH(" ",development!$D$2:$D$92,1)-1),1)-1),TRIM(MID(SUBSTITUTE(LEFT(development!$D$2:$D$92,SEARCH(" ",development!$D$2:$D$92,1)-1),"/",REPT(" ",99)),100,99)))=E$3)*(development!$E$2:$E$92=F$4),0)),"")} -> 4:35:22 PM | G9: {=IFERROR(INDEX(RIGHT(development!$D$2:$D$92,LEN(development!$D$2:$D$92)-SEARCH(" ",development!$D$2:$D$92)),MATCH(1,(development!$A$2:$A$92=$D9)*(development!$C$2:$C$92=$B9)*(development!$B$2:$B$92=$C9)*(DATE(RIGHT(LEFT(development!$D$2:$D$92,SEARCH(" ",development!$D$2:$D$92,1)-1),LEN(LEFT(development!$D$2:$D$92,SEARCH(" ",development!$D$2:$D$92,1)-1))-SEARCH("/",development!$D$2:$D$92,SEARCH("/",development!$D$2:$D$92,1)+1)),LEFT(LEFT(development!$D$2:$D$92,SEARCH(" ",development!$D$2:$D$92,1)-1),SEARCH("/",LEFT(development!$D$2:$D$92,SEARCH(" ",development!$D$2:$D$92,1)-1),1)-1),TRIM(MID(SUBSTITUTE(LEFT(development!$D$2:$D$92,SEARCH(" ",development!$D$2:$D$92,1)-1),"/",REPT(" ",99)),100,99)))=G$3)*(development!$E$2:$E$92=G$4),0)),"")} -> 7:46:20 AM | H9: {=IFERROR(INDEX(RIGHT(development!$D$2:$D$92,LEN(development!$D$2:$D$92)-SEARCH(" ",development!$D$2:$D$92)),MATCH(1,(development!$A$2:$A$92=$D9)*(development!$C$2:$C$92=$B9)*(development!$B$2:$B$92=$C9)*(DATE(RIGHT(LEFT(development!$D$2:$D$92,SEARCH(" ",development!$D$2:$D$92,1)-1),LEN(LEFT(development!$D$2:$D$92,SEARCH(" ",development!$D$2:$D$92,1)-1))-SEARCH("/",development!$D$2:$D$92,SEARCH("/",development!$D$2:$D$92,1)+1)),LEFT(LEFT(development!$D$2:$D$92,SEARCH(" ",development!$D$2:$D$92,1)-1),SEARCH("/",LEFT(development!$D$2:$D$92,SEARCH(" ",development!$D$2:$D$92,1)-1),1)-1),TRIM(MID(SUBSTITUTE(LEFT(development!$D$2:$D$92,SEARCH(" ",development!$D$2:$D$92,1)-1),"/",REPT(" ",99)),100,99)))=G$3)*(development!$E$2:$E$92=H$4),0)),"")} -> 4:59:20 PM | I9: {=IFERROR(INDEX(RIGHT(development!$D$2:$D$92,LEN(development!$D$2:$D$92)-SEARCH(" ",development!$D$2:$D$92)),MATCH(1,(development!$A$2:$A$92=$D9)*(development!$C$2:$C$92=$B9)*(development!$B$2:$B$92=$C9)*(DATE(RIGHT(LEFT(development!$D$2:$D$92,SEARCH(" ",development!$D$2:$D$92,1)-1),LEN(LEFT(development!$D$2:$D$92,SEARCH(" ",development!$D$2:$D$92,1)-1))-SEARCH("/",development!$D$2:$D$92,SEARCH("/",development!$D$2:$D$92,1)+1)),LEFT(LEFT(development!$D$2:$D$92,SEARCH(" ",development!$D$2:$D$92,1)-1),SEARCH("/",LEFT(development!$D$2:$D$92,SEARCH(" ",development!$D$2:$D$92,1)-1),1)-1),TRIM(MID(SUBSTITUTE(LEFT(development!$D$2:$D$92,SEARCH(" ",development!$D$2:$D$92,1)-1),"/",REPT(" ",99)),100,99)))=I$3)*(development!$E$2:$E$92=I$4),0)),"")} -> 7:45:18 AM | J9: {=IFERROR(INDEX(RIGHT(development!$D$2:$D$92,LEN(development!$D$2:$D$92)-SEARCH(" ",development!$D$2:$D$92)),MATCH(1,(development!$A$2:$A$92=$D9)*(development!$C$2:$C$92=$B9)*(development!$B$2:$B$92=$C9)*(DATE(RIGHT(LEFT(development!$D$2:$D$92,SEARCH(" ",development!$D$2:$D$92,1)-1),LEN(LEFT(development!$D$2:$D$92,SEARCH(" ",development!$D$2:$D$92,1)-1))-SEARCH("/",development!$D$2:$D$92,SEARCH("/",development!$D$2:$D$92,1)+1)),LEFT(LEFT(development!$D$2:$D$92,SEARCH(" ",development!$D$2:$D$92,1)-1),SEARCH("/",LEFT(development!$D$2:$D$92,SEARCH(" ",development!$D$2:$D$92,1)-1),1)-1),TRIM(MID(SUBSTITUTE(LEFT(development!$D$2:$D$92,SEARCH(" ",development!$D$2:$D$92,1)-1),"/",REPT(" ",99)),100,99)))=I$3)*(development!$E$2:$E$92=J$4),0)),"")} -> 5:13:51 PM | K9: {=IFERROR(INDEX(RIGHT(development!$D$2:$D$92,LEN(development!$D$2:$D$92)-SEARCH(" ",development!$D$2:$D$92)),MATCH(1,(development!$A$2:$A$92=$D9)*(development!$C$2:$C$92=$B9)*(development!$B$2:$B$92=$C9)*(DATE(RIGHT(LEFT(development!$D$2:$D$92,SEARCH(" ",development!$D$2:$D$92,1)-1),LEN(LEFT(development!$D$2:$D$92,SEARCH(" ",development!$D$2:$D$92,1)-1))-SEARCH("/",development!$D$2:$D$92,SEARCH("/",development!$D$2:$D$92,1)+1)),LEFT(LEFT(development!$D$2:$D$92,SEARCH(" ",development!$D$2:$D$92,1)-1),SEARCH("/",LEFT(development!$D$2:$D$92,SEARCH(" ",development!$D$2:$D$92,1)-1),1)-1),TRIM(MID(SUBSTITUTE(LEFT(development!$D$2:$D$92,SEARCH(" ",development!$D$2:$D$92,1)-1),"/",REPT(" ",99)),100,99)))=K$3)*(development!$E$2:$E$92=K$4),0)),"")} -> 7:58:38 AM | L9: {=IFERROR(INDEX(RIGHT(development!$D$2:$D$92,LEN(development!$D$2:$D$92)-SEARCH(" ",development!$D$2:$D$92)),MATCH(1,(development!$A$2:$A$92=$D9)*(development!$C$2:$C$92=$B9)*(development!$B$2:$B$92=$C9)*(DATE(RIGHT(LEFT(development!$D$2:$D$92,SEARCH(" ",development!$D$2:$D$92,1)-1),LEN(LEFT(development!$D$2:$D$92,SEARCH(" ",development!$D$2:$D$92,1)-1))-SEARCH("/",development!$D$2:$D$92,SEARCH("/",development!$D$2:$D$92,1)+1)),LEFT(LEFT(development!$D$2:$D$92,SEARCH(" ",development!$D$2:$D$92,1)-1),SEARCH("/",LEFT(development!$D$2:$D$92,SEARCH(" ",development!$D$2:$D$92,1)-1),1)-1),TRIM(MID(SUBSTITUTE(LEFT(development!$D$2:$D$92,SEARCH(" ",development!$D$2:$D$92,1)-1),"/",REPT(" ",99)),100,99)))=K$3)*(development!$E$2:$E$92=L$4),0)),"")} -> 4:58:50 PM | M9: {=IFERROR(INDEX(RIGHT(development!$D$2:$D$92,LEN(development!$D$2:$D$92)-SEARCH(" ",development!$D$2:$D$92)),MATCH(1,(development!$A$2:$A$92=$D9)*(development!$C$2:$C$92=$B9)*(development!$B$2:$B$92=$C9)*(DATE(RIGHT(LEFT(development!$D$2:$D$92,SEARCH(" ",development!$D$2:$D$92,1)-1),LEN(LEFT(development!$D$2:$D$92,SEARCH(" ",development!$D$2:$D$92,1)-1))-SEARCH("/",development!$D$2:$D$92,SEARCH("/",development!$D$2:$D$92,1)+1)),LEFT(LEFT(development!$D$2:$D$92,SEARCH(" ",development!$D$2:$D$92,1)-1),SEARCH("/",LEFT(development!$D$2:$D$92,SEARCH(" ",development!$D$2:$D$92,1)-1),1)-1),TRIM(MID(SUBSTITUTE(LEFT(development!$D$2:$D$92,SEARCH(" ",development!$D$2:$D$92,1)-1),"/",REPT(" ",99)),100,99)))=M$3)*(development!$E$2:$E$92=M$4),0)),"")} -> 8:02:22 AM | N9: {=IFERROR(INDEX(RIGHT(development!$D$2:$D$92,LEN(development!$D$2:$D$92)-SEARCH(" ",development!$D$2:$D$92)),MATCH(1,(development!$A$2:$A$92=$D9)*(development!$C$2:$C$92=$B9)*(development!$B$2:$B$92=$C9)*(DATE(RIGHT(LEFT(development!$D$2:$D$92,SEARCH(" ",development!$D$2:$D$92,1)-1),LEN(LEFT(development!$D$2:$D$92,SEARCH(" ",development!$D$2:$D$92,1)-1))-SEARCH("/",development!$D$2:$D$92,SEARCH("/",development!$D$2:$D$92,1)+1)),LEFT(LEFT(development!$D$2:$D$92,SEARCH(" ",development!$D$2:$D$92,1)-1),SEARCH("/",LEFT(development!$D$2:$D$92,SEARCH(" ",development!$D$2:$D$92,1)-1),1)-1),TRIM(MID(SUBSTITUTE(LEFT(development!$D$2:$D$92,SEARCH(" ",development!$D$2:$D$92,1)-1),"/",REPT(" ",99)),100,99)))=M$3)*(development!$E$2:$E$92=N$4),0)),"")} -> 5:22:31 PM | O9: {=IFERROR(INDEX(RIGHT(development!$D$2:$D$92,LEN(development!$D$2:$D$92)-SEARCH(" ",development!$D$2:$D$92)),MATCH(1,(development!$A$2:$A$92=$D9)*(development!$C$2:$C$92=$B9)*(development!$B$2:$B$92=$C9)*(DATE(RIGHT(LEFT(development!$D$2:$D$92,SEARCH(" ",development!$D$2:$D$92,1)-1),LEN(LEFT(development!$D$2:$D$92,SEARCH(" ",development!$D$2:$D$92,1)-1))-SEARCH("/",development!$D$2:$D$92,SEARCH("/",development!$D$2:$D$92,1)+1)),LEFT(LEFT(development!$D$2:$D$92,SEARCH(" ",development!$D$2:$D$92,1)-1),SEARCH("/",LEFT(development!$D$2:$D$92,SEARCH(" ",development!$D$2:$D$92,1)-1),1)-1),TRIM(MID(SUBSTITUTE(LEFT(development!$D$2:$D$92,SEARCH(" ",development!$D$2:$D$92,1)-1),"/",REPT(" ",99)),100,99)))=O$3)*(development!$E$2:$E$92=O$4),0)),"")} | P9: {=IFERROR(INDEX(RIGHT(development!$D$2:$D$92,LEN(development!$D$2:$D$92)-SEARCH(" ",development!$D$2:$D$92)),MATCH(1,(development!$A$2:$A$92=$D9)*(development!$C$2:$C$92=$B9)*(development!$B$2:$B$92=$C9)*(DATE(RIGHT(LEFT(development!$D$2:$D$92,SEARCH(" ",development!$D$2:$D$92,1)-1),LEN(LEFT(development!$D$2:$D$92,SEARCH(" ",development!$D$2:$D$92,1)-1))-SEARCH("/",development!$D$2:$D$92,SEARCH("/",development!$D$2:$D$92,1)+1)),LEFT(LEFT(development!$D$2:$D$92,SEARCH(" ",development!$D$2:$D$92,1)-1),SEARCH("/",LEFT(development!$D$2:$D$92,SEARCH(" ",development!$D$2:$D$92,1)-1),1)-1),TRIM(MID(SUBSTITUTE(LEFT(development!$D$2:$D$92,SEARCH(" ",development!$D$2:$D$92,1)-1),"/",REPT(" ",99)),100,99)))=O$3)*(development!$E$2:$E$92=P$4),0)),"")}
A10: 6 | B10: 209130480 | C10: DANI WANDIANDINI | D10: DEVELOPMENT | E10: {=IFERROR(INDEX(RIGHT(development!$D$2:$D$92,LEN(development!$D$2:$D$92)-SEARCH(" ",development!$D$2:$D$92)),MATCH(1,(development!$A$2:$A$92=$D10)*(development!$C$2:$C$92=$B10)*(development!$B$2:$B$92=$C10)*(DATE(RIGHT(LEFT(development!$D$2:$D$92,SEARCH(" ",development!$D$2:$D$92,1)-1),LEN(LEFT(development!$D$2:$D$92,SEARCH(" ",development!$D$2:$D$92,1)-1))-SEARCH("/",development!$D$2:$D$92,SEARCH("/",development!$D$2:$D$92,1)+1)),LEFT(LEFT(development!$D$2:$D$92,SEARCH(" ",development!$D$2:$D$92,1)-1),SEARCH("/",LEFT(development!$D$2:$D$92,SEARCH(" ",development!$D$2:$D$92,1)-1),1)-1),TRIM(MID(SUBSTITUTE(LEFT(development!$D$2:$D$92,SEARCH(" ",development!$D$2:$D$92,1)-1),"/",REPT(" ",99)),100,99)))=E$3)*(development!$E$2:$E$92=E$4),0)),"")} -> 8:04:21 AM | F10: {=IFERROR(INDEX(RIGHT(development!$D$2:$D$92,LEN(development!$D$2:$D$92)-SEARCH(" ",development!$D$2:$D$92)),MATCH(1,(development!$A$2:$A$92=$D10)*(development!$C$2:$C$92=$B10)*(development!$B$2:$B$92=$C10)*(DATE(RIGHT(LEFT(development!$D$2:$D$92,SEARCH(" ",development!$D$2:$D$92,1)-1),LEN(LEFT(development!$D$2:$D$92,SEARCH(" ",development!$D$2:$D$92,1)-1))-SEARCH("/",development!$D$2:$D$92,SEARCH("/",development!$D$2:$D$92,1)+1)),LEFT(LEFT(development!$D$2:$D$92,SEARCH(" ",development!$D$2:$D$92,1)-1),SEARCH("/",LEFT(development!$D$2:$D$92,SEARCH(" ",development!$D$2:$D$92,1)-1),1)-1),TRIM(MID(SUBSTITUTE(LEFT(development!$D$2:$D$92,SEARCH(" ",development!$D$2:$D$92,1)-1),"/",REPT(" ",99)),100,99)))=E$3)*(development!$E$2:$E$92=F$4),0)),"")} | G10: {=IFERROR(INDEX(RIGHT(development!$D$2:$D$92,LEN(development!$D$2:$D$92)-SEARCH(" ",development!$D$2:$D$92)),MATCH(1,(development!$A$2:$A$92=$D10)*(development!$C$2:$C$92=$B10)*(development!$B$2:$B$92=$C10)*(DATE(RIGHT(LEFT(development!$D$2:$D$92,SEARCH(" ",development!$D$2:$D$92,1)-1),LEN(LEFT(development!$D$2:$D$92,SEARCH(" ",development!$D$2:$D$92,1)-1))-SEARCH("/",development!$D$2:$D$92,SEARCH("/",development!$D$2:$D$92,1)+1)),LEFT(LEFT(development!$D$2:$D$92,SEARCH(" ",development!$D$2:$D$92,1)-1),SEARCH("/",LEFT(development!$D$2:$D$92,SEARCH(" ",development!$D$2:$D$92,1)-1),1)-1),TRIM(MID(SUBSTITUTE(LEFT(development!$D$2:$D$92,SEARCH(" ",development!$D$2:$D$92,1)-1),"/",REPT(" ",99)),100,99)))=G$3)*(development!$E$2:$E$92=G$4),0)),"")} -> 7:59:44 AM | H10: {=IFERROR(INDEX(RIGHT(development!$D$2:$D$92,LEN(development!$D$2:$D$92)-SEARCH(" ",development!$D$2:$D$92)),MATCH(1,(development!$A$2:$A$92=$D10)*(development!$C$2:$C$92=$B10)*(development!$B$2:$B$92=$C10)*(DATE(RIGHT(LEFT(development!$D$2:$D$92,SEARCH(" ",development!$D$2:$D$92,1)-1),LEN(LEFT(development!$D$2:$D$92,SEARCH(" ",development!$D$2:$D$92,1)-1))-SEARCH("/",development!$D$2:$D$92,SEARCH("/",development!$D$2:$D$92,1)+1)),LEFT(LEFT(development!$D$2:$D$92,SEARCH(" ",development!$D$2:$D$92,1)-1),SEARCH("/",LEFT(development!$D$2:$D$92,SEARCH(" ",development!$D$2:$D$92,1)-1),1)-1),TRIM(MID(SUBSTITUTE(LEFT(development!$D$2:$D$92,SEARCH(" ",development!$D$2:$D$92,1)-1),"/",REPT(" ",99)),100,99)))=G$3)*(development!$E$2:$E$92=H$4),0)),"")} -> 6:43:37 PM | I10: {=IFERROR(INDEX(RIGHT(development!$D$2:$D$92,LEN(development!$D$2:$D$92)-SEARCH(" ",development!$D$2:$D$92)),MATCH(1,(development!$A$2:$A$92=$D10)*(development!$C$2:$C$92=$B10)*(development!$B$2:$B$92=$C10)*(DATE(RIGHT(LEFT(development!$D$2:$D$92,SEARCH(" ",development!$D$2:$D$92,1)-1),LEN(LEFT(development!$D$2:$D$92,SEARCH(" ",development!$D$2:$D$92,1)-1))-SEARCH("/",development!$D$2:$D$92,SEARCH("/",development!$D$2:$D$92,1)+1)),LEFT(LEFT(development!$D$2:$D$92,SEARCH(" ",development!$D$2:$D$92,1)-1),SEARCH("/",LEFT(development!$D$2:$D$92,SEARCH(" ",development!$D$2:$D$92,1)-1),1)-1),TRIM(MID(SUBSTITUTE(LEFT(development!$D$2:$D$92,SEARCH(" ",development!$D$2:$D$92,1)-1),"/",REPT(" ",99)),100,99)))=I$3)*(development!$E$2:$E$92=I$4),0)),"")} -> 7:53:01 AM | J10: {=IFERROR(INDEX(RIGHT(development!$D$2:$D$92,LEN(development!$D$2:$D$92)-SEARCH(" ",development!$D$2:$D$92)),MATCH(1,(development!$A$2:$A$92=$D10)*(development!$C$2:$C$92=$B10)*(development!$B$2:$B$92=$C10)*(DATE(RIGHT(LEFT(development!$D$2:$D$92,SEARCH(" ",development!$D$2:$D$92,1)-1),LEN(LEFT(development!$D$2:$D$92,SEARCH(" ",development!$D$2:$D$92,1)-1))-SEARCH("/",development!$D$2:$D$92,SEARCH("/",development!$D$2:$D$92,1)+1)),LEFT(LEFT(development!$D$2:$D$92,SEARCH(" ",development!$D$2:$D$92,1)-1),SEARCH("/",LEFT(development!$D$2:$D$92,SEARCH(" ",development!$D$2:$D$92,1)-1),1)-1),TRIM(MID(SUBSTITUTE(LEFT(development!$D$2:$D$92,SEARCH(" ",development!$D$2:$D$92,1)-1),"/",REPT(" ",99)),100,99)))=I$3)*(development!$E$2:$E$92=J$4),0)),"")} -> 5:02:08 PM | K10: {=IFERROR(INDEX(RIGHT(development!$D$2:$D$92,LEN(development!$D$2:$D$92)-SEARCH(" ",development!$D$2:$D$92)),MATCH(1,(development!$A$2:$A$92=$D10)*(development!$C$2:$C$92=$B10)*(development!$B$2:$B$92=$C10)*(DATE(RIGHT(LEFT(development!$D$2:$D$92,SEARCH(" ",development!$D$2:$D$92,1)-1),LEN(LEFT(development!$D$2:$D$92,SEARCH(" ",development!$D$2:$D$92,1)-1))-SEARCH("/",development!$D$2:$D$92,SEARCH("/",development!$D$2:$D$92,1)+1)),LEFT(LEFT(development!$D$2:$D$92,SEARCH(" ",development!$D$2:$D$92,1)-1),SEARCH("/",LEFT(development!$D$2:$D$92,SEARCH(" ",development!$D$2:$D$92,1)-1),1)-1),TRIM(MID(SUBSTITUTE(LEFT(development!$D$2:$D$92,SEARCH(" ",development!$D$2:$D$92,1)-1),"/",REPT(" ",99)),100,99)))=K$3)*(development!$E$2:$E$92=K$4),0)),"")} | L10: {=IFERROR(INDEX(RIGHT(development!$D$2:$D$92,LEN(development!$D$2:$D$92)-SEARCH(" ",development!$D$2:$D$92)),MATCH(1,(development!$A$2:$A$92=$D10)*(development!$C$2:$C$92=$B10)*(development!$B$2:$B$92=$C10)*(DATE(RIGHT(LEFT(development!$D$2:$D$92,SEARCH(" ",development!$D$2:$D$92,1)-1),LEN(LEFT(development!$D$2:$D$92,SEARCH(" ",development!$D$2:$D$92,1)-1))-SEARCH("/",development!$D$2:$D$92,SEARCH("/",development!$D$2:$D$92,1)+1)),LEFT(LEFT(development!$D$2:$D$92,SEARCH(" ",development!$D$2:$D$92,1)-1),SEARCH("/",LEFT(development!$D$2:$D$92,SEARCH(" ",development!$D$2:$D$92,1)-1),1)-1),TRIM(MID(SUBSTITUTE(LEFT(development!$D$2:$D$92,SEARCH(" ",development!$D$2:$D$92,1)-1),"/",REPT(" ",99)),100,99)))=K$3)*(development!$E$2:$E$92=L$4),0)),"")} -> 5:24:40 PM | M10: {=IFERROR(INDEX(RIGHT(development!$D$2:$D$92,LEN(development!$D$2:$D$92)-SEARCH(" ",development!$D$2:$D$92)),MATCH(1,(development!$A$2:$A$92=$D10)*(development!$C$2:$C$92=$B10)*(development!$B$2:$B$92=$C10)*(DATE(RIGHT(LEFT(development!$D$2:$D$92,SEARCH(" ",development!$D$2:$D$92,1)-1),LEN(LEFT(development!$D$2:$D$92,SEARCH(" ",development!$D$2:$D$92,1)-1))-SEARCH("/",development!$D$2:$D$92,SEARCH("/",development!$D$2:$D$92,1)+1)),LEFT(LEFT(development!$D$2:$D$92,SEARCH(" ",development!$D$2:$D$92,1)-1),SEARCH("/",LEFT(development!$D$2:$D$92,SEARCH(" ",development!$D$2:$D$92,1)-1),1)-1),TRIM(MID(SUBSTITUTE(LEFT(development!$D$2:$D$92,SEARCH(" ",development!$D$2:$D$92,1)-1),"/",REPT(" ",99)),100,99)))=M$3)*(development!$E$2:$E$92=M$4),0)),"")} -> 7:49:41 AM | N10: {=IFERROR(INDEX(RIGHT(development!$D$2:$D$92,LEN(development!$D$2:$D$92)-SEARCH(" ",development!$D$2:$D$92)),MATCH(1,(development!$A$2:$A$92=$D10)*(development!$C$2:$C$92=$B10)*(development!$B$2:$B$92=$C10)*(DATE(RIGHT(LEFT(development!$D$2:$D$92,SEARCH(" ",development!$D$2:$D$92,1)-1),LEN(LEFT(development!$D$2:$D$92,SEARCH(" ",development!$D$2:$D$92,1)-1))-SEARCH("/",development!$D$2:$D$92,SEARCH("/",development!$D$2:$D$92,1)+1)),LEFT(LEFT(development!$D$2:$D$92,SEARCH(" ",development!$D$2:$D$92,1)-1),SEARCH("/",LEFT(development!$D$2:$D$92,SEARCH(" ",development!$D$2:$D$92,1)-1),1)-1),TRIM(MID(SUBSTITUTE(LEFT(development!$D$2:$D$92,SEARCH(" ",development!$D$2:$D$92,1)-1),"/",REPT(" ",99)),100,99)))=M$3)*(development!$E$2:$E$92=N$4),0)),"")} -> 5:21:17 PM | O10: {=IFERROR(INDEX(RIGHT(development!$D$2:$D$92,LEN(development!$D$2:$D$92)-SEARCH(" ",development!$D$2:$D$92)),MATCH(1,(development!$A$2:$A$92=$D10)*(development!$C$2:$C$92=$B10)*(development!$B$2:$B$92=$C10)*(DATE(RIGHT(LEFT(development!$D$2:$D$92,SEARCH(" ",development!$D$2:$D$92,1)-1),LEN(LEFT(development!$D$2:$D$92,SEARCH(" ",development!$D$2:$D$92,1)-1))-SEARCH("/",development!$D$2:$D$92,SEARCH("/",development!$D$2:$D$92,1)+1)),LEFT(LEFT(development!$D$2:$D$92,SEARCH(" ",development!$D$2:$D$92,1)-1),SEARCH("/",LEFT(development!$D$2:$D$92,SEARCH(" ",development!$D$2:$D$92,1)-1),1)-1),TRIM(MID(SUBSTITUTE(LEFT(development!$D$2:$D$92,SEARCH(" ",development!$D$2:$D$92,1)-1),"/",REPT(" ",99)),100,99)))=O$3)*(development!$E$2:$E$92=O$4),0)),"")} | P10: {=IFERROR(INDEX(RIGHT(development!$D$2:$D$92,LEN(development!$D$2:$D$92)-SEARCH(" ",development!$D$2:$D$92)),MATCH(1,(development!$A$2:$A$92=$D10)*(development!$C$2:$C$92=$B10)*(development!$B$2:$B$92=$C10)*(DATE(RIGHT(LEFT(development!$D$2:$D$92,SEARCH(" ",development!$D$2:$D$92,1)-1),LEN(LEFT(development!$D$2:$D$92,SEARCH(" ",development!$D$2:$D$92,1)-1))-SEARCH("/",development!$D$2:$D$92,SEARCH("/",development!$D$2:$D$92,1)+1)),LEFT(LEFT(development!$D$2:$D$92,SEARCH(" ",development!$D$2:$D$92,1)-1),SEARCH("/",LEFT(development!$D$2:$D$92,SEARCH(" ",development!$D$2:$D$92,1)-1),1)-1),TRIM(MID(SUBSTITUTE(LEFT(development!$D$2:$D$92,SEARCH(" ",development!$D$2:$D$92,1)-1),"/",REPT(" ",99)),100,99)))=O$3)*(development!$E$2:$E$92=P$4),0)),"")}
A11: 7
A12: 8
A13: 9
A14: 10
A15: 11
A16: 12
A17: 13
A18: 14
A19: 15
A20: 16
A21: 17
A22: 18
A23: 19
