BEGIN:VCALENDAR
VERSION:2.0
PRODID:-//timeanddate.com//Event Time Announcer
METHOD:PUBLISH
BEGIN:VEVENT
DTSTART:20171115T200000Z
DTEND:20171115T210000Z
TRANSP:TRANSPARENT
SUMMARY:Carpentry Champions call http://pad.software-carpentry.org/champio
 ns
DESCRIPTION:Carpentry Champions call http://pad.software-carpentry.org/cha
 mpions\nTime when the event takes place: \n\nUTC: Wednesday, November 15,
  2017 at 8:00 pm\nToronto: Wednesday, November 15, 2017 at 3:00 pm\n\nTim
 e in some other locations:\n\nSydney: Thursday, November 16, 2017 at 7:00
  am\nTokyo: Thursday, November 16, 2017 at 5:00 am\nBeijing: Thursday, No
 vember 16, 2017 at 4:00 am\nMoscow: Wednesday, November 15, 2017 at 11:00
  pm\nNew Delhi: Thursday, November 16, 2017 at 1:30 am\nParis: Wednesday,
  November 15, 2017 at 9:00 pm\nLondon: Wednesday, November 15, 2017 at 8:
 00 pm\nBuenos Aires: Wednesday, November 15, 2017 at 5:00 pm\nNew York: W
 ednesday, November 15, 2017 at 3:00 pm\nLos Angeles: Wednesday, November 
 15, 2017 at 12:00 noon\n\n\nList generated using timeanddate.com's Event 
 Time Announcer\nhttp://www.timeanddate.com/worldclock/fixedtime.html?iso=
 20171115T2000&msg=Carpentry%20Champions%20call%20http%3a//pad.software-ca
 rpentry.org/champions\n
URL;VALUE=URI:http://www.timeanddate.com/worldclock/fixedtime.html?iso=201
 71115T2000&msg=Carpentry%20Champions%20call%20http%3a//pad.software-carpe
 ntry.org/champions
UID:http://www.timeanddate.com/worldclock/fixedtime.html?iso=20171115T2000
 &msg=Carpentry%20Champions%20call%20http%3a//pad.software-carpentry.org/c
 hampions
DTSTAMP:20171115T200000Z
END:VEVENT
END:VCALENDAR
