BEGIN:VCALENDAR
PRODID: -//WebEx//WebEx Meeting Center 6.0//EN
VERSION:2.0
METHOD:REQUEST
BEGIN:VTIMEZONE
TZID:Pacific Time
BEGIN:STANDARD
DTSTART:20031001T020000
RRULE:FREQ=YEARLY;INTERVAL=1;BYDAY=-1SU;BYMONTH=10
TZOFFSETFROM:-700
TZOFFSETTO:-800
TZNAME:Standard Time
END:STANDARD
BEGIN:DAYLIGHT
DTSTART:20030401T020000
RRULE:FREQ=YEARLY;INTERVAL=1;BYDAY=1SU;BYMONTH=4
TZOFFSETFROM:-800
TZOFFSETTO:-700
TZNAME:Daylight Savings Time
END:DAYLIGHT
END:VTIMEZONE
BEGIN:VEVENT
ATTENDEE;CN="";ROLE=REQ-PARTICIPANT;RSVP=TRUE:MAILTO:forum@t13.org
ORGANIZER;CN="Robert Sheffield Jr":MAILTO:robert.l.sheffield@intel.com
DTSTART;TZID="Pacific Time":20050519T120000
DTEND;TZID="Pacific Time":20050519T150000
LOCATION:https://intel.webex.com/intel/
TRANSP:OPAQUE
SEQUENCE:1
UID:WEBEX-MEETING CENTER-6.019451-81910977
DTSTAMP:20050503T175705Z
DESCRIPTION:Hello , \n\nRobert Sheffield Jr has invited you to join a meeting on the Web, using WebEx. \n\nTopic: T10 SCSI / ATA Translation (SAT) WG \nDate: Thursday, May 19, 2005 \nTime: 12:00 pm, Pacific Daylight Time (GMT -07:00, San Jose) \nMeeting number: 821 975 752 \nMeeting password: Please obtain your meeting password from your host. \n\nPlease click the following link to see more information, or to join the meeting. \nNEW USER? Prepare your computer in advance of the meeting by clicking New User on the navigation bar. \n\n<https://intel.webex.com/intel/j.php?ED=81910977&UID=18379062> \n\nTeleconference: 916-356-2663,\nBridge: 4,\nPasscode: 2396288 \n\nTo contact Robert Sheffield Jr,  \nsend a message to this address: robert.l.sheffield@intel.com \n\n \n\nTo add this meeting to your calendar program (for example, Microsoft Outlook or Lotus Notes), do the following:  \n\n* For all calendar programs (except Lotus Notes), click the following link, or copy the link and paste it into your Web browser: \n<https://intel.webex.com/intel/j.php?ED=81910977&UID=18379062&ICS=MI> \n\n*For Lotus Notes, follow these steps: \n1.Right-click the attached iCalendar format (*.ics) file, and then choose View. \n2.Click Import All. A new broadcast email message is added to your Inbox. \n3.Open the new message. \n4.Click Respond button. A menu appears. \n5.Click Accept.  \n\n \n\nhttp://www.webex.com \nWe've got to start meeting like this(TM) \n \n
SUMMARY:T10 SCSI / ATA Translation (SAT) WG
PRIORITY:5
CLASS:PUBLIC
BEGIN:VALARM
TRIGGER:PT30M
ACTION:DISPLAY
DESCRIPTION:Reminder
END:VALARM
END:VEVENT
END:VCALENDAR
