BEGIN:VCALENDAR
PRODID:-//Google Inc//Google Calendar 70.9054//EN
VERSION:2.0
CALSCALE:GREGORIAN
METHOD:REQUEST
BEGIN:VTIMEZONE
TZID:America/Mazatlan
X-LIC-LOCATION:America/Mazatlan
BEGIN:DAYLIGHT
TZOFFSETFROM:-0700
TZOFFSETTO:-0600
TZNAME:MDT
DTSTART:19700405T020000
RRULE:FREQ=YEARLY;BYMONTH=4;BYDAY=1SU
END:DAYLIGHT
BEGIN:STANDARD
TZOFFSETFROM:-0600
TZOFFSETTO:-0700
TZNAME:MST
DTSTART:19701025T020000
RRULE:FREQ=YEARLY;BYMONTH=10;BYDAY=-1SU
END:STANDARD
END:VTIMEZONE
BEGIN:VEVENT
DTSTART;TZID=America/Mazatlan:20200519T100000
DTEND;TZID=America/Mazatlan:20200519T103000
RRULE:FREQ=WEEKLY;WKST=SU;UNTIL=20200618T055959Z;BYDAY=TU
DTSTAMP:20200515T193213Z
ORGANIZER;CN=jbaker@linuxfoundation.org:mailto:jbaker@linuxfoundation.org
UID:41ndqf7mt73ejobs54046bgu90@google.com
ATTENDEE;CUTYPE=INDIVIDUAL;ROLE=REQ-PARTICIPANT;PARTSTAT=NEEDS-ACTION;RSVP=
 TRUE;CN=hkirksey@linuxfoundation.org;X-NUM-GUESTS=0:mailto:hkirksey@linuxfo
 undation.org
ATTENDEE;CUTYPE=INDIVIDUAL;ROLE=REQ-PARTICIPANT;PARTSTAT=NEEDS-ACTION;RSVP=
 TRUE;CN=ss8171@att.com;X-NUM-GUESTS=0:mailto:ss8171@att.com
ATTENDEE;CUTYPE=INDIVIDUAL;ROLE=REQ-PARTICIPANT;PARTSTAT=ACCEPTED;RSVP=TRUE
 ;CN=jbaker@linuxfoundation.org;X-NUM-GUESTS=0:mailto:jbaker@linuxfoundation
 .org
X-MICROSOFT-CDO-OWNERAPPTID:-1463236659
CREATED:20200515T193212Z
DESCRIPTION:\n──────────\n\nJim Baker (LFN) is inviting you to a scheduled 
 Zoom meeting.\n\nJoin Zoom Meeting\nhttps://zoom.us/j/98444592801\n\nMeetin
 g ID: 984 4459 2801\nOne tap mobile\n+16699006833\,\,98444592801# US (San J
 ose)\n+13462487799\,\,98444592801# US (Houston)\n\nDial by your location\n 
        +1 669 900 6833 US (San Jose)\n        +1 346 248 7799 US (Houston)\
 n        +1 253 215 8782 US (Tacoma)\n        +1 301 715 8592 US (Germantow
 n)\n        +1 312 626 6799 US (Chicago)\n        +1 646 558 8656 US (New Y
 ork)\n        877 369 0926 US Toll-free\n        855 880 1246 US Toll-free\
 n        +1 778 907 2071 Canada\n        +1 438 809 7799 Canada\n        +1
  587 328 1099 Canada\n        +1 647 374 4685 Canada\n        +1 647 558 05
 88 Canada\n        855 703 8985 Canada Toll-free\nMeeting ID: 984 4459 2801
 \nFind your local number: https://zoom.us/u/aP5AHkbwt\n\n\n──────────\n\n-:
 :~:~::~:~:~:~:~:~:~:~:~:~:~:~:~:~:~:~:~:~:~:~:~:~:~:~:~:~:~:~:~:~:~:~:~:~:~
 :~::~:~::-\nPlease do not edit this section of the description.\n\nView you
 r event at https://www.google.com/calendar/event?action=VIEW&eid=NDFuZHFmN2
 10NzNlam9iczU0MDQ2Ymd1OTAgc3M4MTcxQGF0dC5jb20&tok=MjYjamJha2VyQGxpbnV4Zm91b
 mRhdGlvbi5vcmcxZmU5ZjJkOGM1YzNhMDhmYTk0OTcwM2E1ODkwOTYyNDY3YmFkN2Q0&ctz=Ame
 rica%2FMazatlan&hl=en&es=1.\n-::~:~::~:~:~:~:~:~:~:~:~:~:~:~:~:~:~:~:~:~:~:
 ~:~:~:~:~:~:~:~:~:~:~:~:~:~:~:~:~::~:~::-
LAST-MODIFIED:20200515T193212Z
LOCATION:https://zoom.us/j/98444592801
SEQUENCE:0
STATUS:CONFIRMED
SUMMARY:CNTT FMO
TRANSP:OPAQUE
END:VEVENT
END:VCALENDAR
