BEGIN:VCALENDAR
METHOD:REQUEST
PRODID:Microsoft Exchange Server 2010
VERSION:2.0
BEGIN:VTIMEZONE
TZID:GMT Standard Time
BEGIN:STANDARD
DTSTART:16010101T020000
TZOFFSETFROM:+0100
TZOFFSETTO:+0000
RRULE:FREQ=YEARLY;INTERVAL=1;BYDAY=-1SU;BYMONTH=10
END:STANDARD
BEGIN:DAYLIGHT
DTSTART:16010101T010000
TZOFFSETFROM:+0000
TZOFFSETTO:+0100
RRULE:FREQ=YEARLY;INTERVAL=1;BYDAY=-1SU;BYMONTH=3
END:DAYLIGHT
END:VTIMEZONE
BEGIN:VEVENT
ORGANIZER;CN=Stephen Pattison:mailto:[email protected]
ATTENDEE;ROLE=REQ-PARTICIPANT;PARTSTAT=NEEDS-ACTION;RSVP=TRUE;CN=esb@iotsfm
 m.org:mailto:[email protected]
DESCRIPTION;LANGUAGE=en-US:Does this work for people?\nIMPORTANT NOTICE: Th
 e contents of this email and any attachments are confidential and may also
  be privileged. If you are not the intended recipient\, please notify the 
 sender immediately and do not disclose the contents to any other person\, 
 use it for any purpose\, or store or copy the information in any medium. T
 hank you.\n
UID:040000008200E00074C5B7101A82E008000000004051FE7B688DD901000000000000000
 010000000DA729F4A2D01B84EA5EA5C5D70E6B3DA
SUMMARY;LANGUAGE=en-US:ESB Meeting at Arm 
DTSTART;TZID=GMT Standard Time:20230620T150000
DTEND;TZID=GMT Standard Time:20230620T170000
CLASS:PUBLIC
PRIORITY:5
DTSTAMP:20230525T110611Z
TRANSP:OPAQUE
STATUS:CONFIRMED
SEQUENCE:4
LOCATION;LANGUAGE=en-US:Arm Cambridge\; CMBB-0-33 [12] [Zoom Single]
X-MICROSOFT-CDO-APPT-SEQUENCE:4
X-MICROSOFT-CDO-OWNERAPPTID:1027037159
X-MICROSOFT-CDO-BUSYSTATUS:TENTATIVE
X-MICROSOFT-CDO-INTENDEDSTATUS:BUSY
X-MICROSOFT-CDO-ALLDAYEVENT:FALSE
X-MICROSOFT-CDO-IMPORTANCE:1
X-MICROSOFT-CDO-INSTTYPE:0
X-MICROSOFT-DONOTFORWARDMEETING:FALSE
X-MICROSOFT-DISALLOW-COUNTER:FALSE
X-MICROSOFT-LOCATIONS:[ { "DisplayName" : "Arm Cambridge"\, "LocationAnnota
 tion" : ""\, "LocationSource" : 0\, "Unresolved" : true\, "LocationUri" : 
 "" }\, { "DisplayName" : "CMBB-0-33 [12] [Zoom Single]"\, "LocationAnnotat
 ion" : ""\, "LocationSource" : 5\, "Unresolved" : false\, "LocationUri" : 
 "[email protected]" } ]
BEGIN:VALARM
DESCRIPTION:REMINDER
TRIGGER;RELATED=START:-PT15M
ACTION:DISPLAY
END:VALARM
END:VEVENT
END:VCALENDAR

Reply via email to