BEGIN:VCALENDAR
VERSION:2.0
PRODID:-//Rediff.com India Ltd.//Rediff cal MIMEDIR//EN
METHOD:REQUEST
BEGIN:VTIMEZONE
TZID:Asia/Kolkata
BEGIN:STANDARD
DTSTART:19710101T000000
TZOFFSETTO:+0530
TZOFFSETFROM:+0530
TZNAME:IST
END:STANDARD
END:VTIMEZONE
BEGIN:VEVENT
ATTENDEE;ROLE=REQ-PARTICIPANT;RSVP=TRUE:MAILTO:[email protected]
ATTENDEE;ROLE=REQ-PARTICIPANT;RSVP=TRUE:MAILTO:[email protected]
ATTENDEE;ROLE=REQ-PARTICIPANT;RSVP=TRUE:MAILTO:[email protected]
ATTENDEE;ROLE=REQ-PARTICIPANT;RSVP=TRUE:MAILTO:[email protected]
ATTENDEE;ROLE=REQ-PARTICIPANT;RSVP=TRUE:MAILTO:[email protected]
ATTENDEE;ROLE=REQ-PARTICIPANT;RSVP=TRUE:MAILTO:[email protected]
ATTENDEE;ROLE=REQ-PARTICIPANT;RSVP=TRUE:MAILTO:[email protected]
ATTENDEE;ROLE=REQ-PARTICIPANT;RSVP=TRUE:MAILTO:[email protected]
ATTENDEE;ROLE=REQ-PARTICIPANT;RSVP=TRUE:MAILTO:[email protected]
ATTENDEE;ROLE=REQ-PARTICIPANT;RSVP=TRUE:MAILTO:[email protected]
ATTENDEE;ROLE=REQ-PARTICIPANT;RSVP=TRUE:MAILTO:[email protected]
ATTENDEE;ROLE=REQ-PARTICIPANT;RSVP=TRUE:MAILTO:[email protected]
ATTENDEE;ROLE=REQ-PARTICIPANT;RSVP=TRUE:MAILTO:[email protected]
ATTENDEE;ROLE=REQ-PARTICIPANT;RSVP=TRUE:MAILTO:[email protected]
ATTENDEE;ROLE=REQ-PARTICIPANT;RSVP=TRUE:MAILTO:[email protected]
ATTENDEE;ROLE=REQ-PARTICIPANT;RSVP=TRUE:MAILTO:[email protected]
ATTENDEE;ROLE=REQ-PARTICIPANT;RSVP=TRUE:MAILTO:[email protected]
ATTENDEE;ROLE=REQ-PARTICIPANT;RSVP=TRUE:MAILTO:[email protected]
ATTENDEE;ROLE=REQ-PARTICIPANT;RSVP=TRUE:MAILTO:[email protected]
ATTENDEE;ROLE=REQ-PARTICIPANT;RSVP=TRUE:MAILTO:[email protected]
ATTENDEE;ROLE=REQ-PARTICIPANT;RSVP=TRUE:MAILTO:[email protected]
ATTENDEE;ROLE=REQ-PARTICIPANT;RSVP=TRUE:MAILTO:[email protected]
ATTENDEE;ROLE=REQ-PARTICIPANT;RSVP=TRUE:MAILTO:[email protected]
ATTENDEE;ROLE=REQ-PARTICIPANT;RSVP=TRUE:MAILTO:[email protected]
ATTENDEE;ROLE=REQ-PARTICIPANT;RSVP=TRUE:MAILTO:[email protected]
ATTENDEE;ROLE=REQ-PARTICIPANT;RSVP=TRUE:MAILTO:[email protected]
ATTENDEE;ROLE=REQ-PARTICIPANT;RSVP=TRUE:MAILTO:[email protected]
ATTENDEE;ROLE=REQ-PARTICIPANT;RSVP=TRUE:MAILTO:[email protected]
ATTENDEE;ROLE=REQ-PARTICIPANT;RSVP=TRUE:MAILTO:[email protected]
ATTENDEE;ROLE=REQ-PARTICIPANT;RSVP=TRUE:MAILTO:[email protected]
ATTENDEE;ROLE=REQ-PARTICIPANT;RSVP=TRUE:MAILTO:[email protected]
ATTENDEE;ROLE=REQ-PARTICIPANT;RSVP=TRUE:MAILTO:[email protected]
ATTENDEE;ROLE=REQ-PARTICIPANT;RSVP=TRUE:MAILTO:[email protected]
ATTENDEE;ROLE=REQ-PARTICIPANT;RSVP=TRUE:MAILTO:[email protected]
ATTENDEE;ROLE=REQ-PARTICIPANT;RSVP=TRUE:MAILTO:[email protected]
ATTENDEE;ROLE=REQ-PARTICIPANT;RSVP=TRUE:MAILTO:[email protected]
ATTENDEE;ROLE=REQ-PARTICIPANT;RSVP=TRUE:MAILTO:[email protected]
ATTENDEE;ROLE=REQ-PARTICIPANT;RSVP=TRUE:MAILTO:[email protected]
ATTENDEE;ROLE=REQ-PARTICIPANT;RSVP=TRUE:MAILTO:[email protected]
ATTENDEE;ROLE=REQ-PARTICIPANT;RSVP=TRUE:MAILTO:[email protected]
ATTENDEE;ROLE=REQ-PARTICIPANT;RSVP=TRUE:MAILTO:[email protected]
ATTENDEE;ROLE=REQ-PARTICIPANT;RSVP=TRUE:MAILTO:[email protected]
ATTENDEE;ROLE=REQ-PARTICIPANT;RSVP=TRUE:MAILTO:[email protected]
ATTENDEE;ROLE=REQ-PARTICIPANT;RSVP=TRUE:MAILTO:[email protected]
ATTENDEE;ROLE=REQ-PARTICIPANT;RSVP=TRUE:MAILTO:[email protected]
ATTENDEE;ROLE=REQ-PARTICIPANT;RSVP=TRUE:MAILTO:[email protected]
ATTENDEE;ROLE=REQ-PARTICIPANT;RSVP=TRUE:MAILTO:[email protected]
ATTENDEE;ROLE=REQ-PARTICIPANT;RSVP=TRUE:MAILTO:[email protected]
ATTENDEE;ROLE=REQ-PARTICIPANT;RSVP=TRUE:MAILTO:[email protected]
ATTENDEE;ROLE=REQ-PARTICIPANT;RSVP=TRUE:MAILTO:[email protected]
ATTENDEE;ROLE=REQ-PARTICIPANT;RSVP=TRUE:MAILTO:[email protected]
ATTENDEE;ROLE=REQ-PARTICIPANT;RSVP=TRUE:MAILTO:[email protected]
ATTENDEE;ROLE=REQ-PARTICIPANT;RSVP=TRUE:MAILTO:[email protected]
ATTENDEE;ROLE=REQ-PARTICIPANT;RSVP=TRUE:MAILTO:[email protected]
ATTENDEE;ROLE=REQ-PARTICIPANT;RSVP=TRUE:MAILTO:[email protected]
ATTENDEE;ROLE=REQ-PARTICIPANT;RSVP=TRUE:MAILTO:[email protected]
ATTENDEE;ROLE=REQ-PARTICIPANT;RSVP=TRUE:MAILTO:[email protected]
ATTENDEE;ROLE=REQ-PARTICIPANT;RSVP=TRUE:MAILTO:[email protected]
ATTENDEE;ROLE=REQ-PARTICIPANT;RSVP=TRUE:MAILTO:[email protected]
ATTENDEE;ROLE=REQ-PARTICIPANT;RSVP=TRUE:MAILTO:[email protected]
ATTENDEE;ROLE=REQ-PARTICIPANT;RSVP=TRUE:MAILTO:[email protected]
ATTENDEE;ROLE=REQ-PARTICIPANT;RSVP=TRUE:MAILTO:[email protected]
ATTENDEE;ROLE=REQ-PARTICIPANT;RSVP=TRUE:MAILTO:[email protected]
ATTENDEE;ROLE=REQ-PARTICIPANT;RSVP=TRUE:MAILTO:[email protected]
ORGANIZER;CN=ANISH  KP:MAILTO:[email protected]
DTSTART:20230916T013300Z
DTEND:20230916T014800Z
LOCATION:https://docs.google.com/presentation/d/1Yz2qL6-9r7uOpwLBB7Wjo_DGd6a-mO63ZyJpNrmmMVI/preview
TRANSP:OPAQUE
SEQUENCE:0
UID:f6591ac4e9-1863ffe5fa-e445dfedd2-038a83b53f-83d6e1adf8-a27fd3dff1
DTSTAMP:20230915T202851Z
CATEGORIES:A
DESCRIPTION:When: 16 September 2023 07:03-07:18 (GMT+05:30)\nWhere: https://docs.google.com/presentation/d/1Yz2qL6-9r7uOpwLBB7Wjo_DGd6a-mO63ZyJpNrmmMVI/preview\n\n*~*~*~*~*~*~*~*~*~*\n\n
SUMMARY:31151
PRIORITY:5
X-MICROSOFT-CDO-IMPORTANCE:1
CLASS:PRIVATE
END:VEVENT
END:VCALENDAR

  • 31151 ANISH KP

Reply via email to