BEGIN:VCALENDAR
VERSION:2.0
PRODID:-//Rediff.com India Ltd.//Rediff cal MIMEDIR//EN
METHOD:REQUEST
BEGIN:VTIMEZONE
TZID:Asia/Kolkata
BEGIN:STANDARD
DTSTART:19710101T000000
TZOFFSETTO:+0530
TZOFFSETFROM:+0530
TZNAME:IST
END:STANDARD
END:VTIMEZONE
BEGIN:VEVENT
ATTENDEE;ROLE=REQ-PARTICIPANT;RSVP=TRUE:MAILTO:[email protected]
ATTENDEE;ROLE=REQ-PARTICIPANT;RSVP=TRUE:MAILTO:[email protected]
ATTENDEE;ROLE=REQ-PARTICIPANT;RSVP=TRUE:MAILTO:[email protected]
ATTENDEE;ROLE=REQ-PARTICIPANT;RSVP=TRUE:MAILTO:[email protected]
ATTENDEE;ROLE=REQ-PARTICIPANT;RSVP=TRUE:MAILTO:[email protected]
ATTENDEE;ROLE=REQ-PARTICIPANT;RSVP=TRUE:MAILTO:[email protected]
ATTENDEE;ROLE=REQ-PARTICIPANT;RSVP=TRUE:MAILTO:[email protected]
ATTENDEE;ROLE=REQ-PARTICIPANT;RSVP=TRUE:MAILTO:[email protected]
ATTENDEE;ROLE=REQ-PARTICIPANT;RSVP=TRUE:MAILTO:[email protected]
ATTENDEE;ROLE=REQ-PARTICIPANT;RSVP=TRUE:MAILTO:[email protected]
ATTENDEE;ROLE=REQ-PARTICIPANT;RSVP=TRUE:MAILTO:[email protected]
ATTENDEE;ROLE=REQ-PARTICIPANT;RSVP=TRUE:MAILTO:[email protected]
ATTENDEE;ROLE=REQ-PARTICIPANT;RSVP=TRUE:MAILTO:[email protected]
ATTENDEE;ROLE=REQ-PARTICIPANT;RSVP=TRUE:MAILTO:[email protected]
ATTENDEE;ROLE=REQ-PARTICIPANT;RSVP=TRUE:MAILTO:[email protected]
ATTENDEE;ROLE=REQ-PARTICIPANT;RSVP=TRUE:MAILTO:[email protected]
ATTENDEE;ROLE=REQ-PARTICIPANT;RSVP=TRUE:MAILTO:[email protected]
ATTENDEE;ROLE=REQ-PARTICIPANT;RSVP=TRUE:MAILTO:[email protected]
ATTENDEE;ROLE=REQ-PARTICIPANT;RSVP=TRUE:MAILTO:[email protected]
ATTENDEE;ROLE=REQ-PARTICIPANT;RSVP=TRUE:MAILTO:[email protected]
ATTENDEE;ROLE=REQ-PARTICIPANT;RSVP=TRUE:MAILTO:[email protected]
ATTENDEE;ROLE=REQ-PARTICIPANT;RSVP=TRUE:MAILTO:[email protected]
ATTENDEE;ROLE=REQ-PARTICIPANT;RSVP=TRUE:MAILTO:[email protected]
ATTENDEE;ROLE=REQ-PARTICIPANT;RSVP=TRUE:MAILTO:[email protected]
ATTENDEE;ROLE=REQ-PARTICIPANT;RSVP=TRUE:MAILTO:[email protected]
ATTENDEE;ROLE=REQ-PARTICIPANT;RSVP=TRUE:MAILTO:[email protected]
ATTENDEE;ROLE=REQ-PARTICIPANT;RSVP=TRUE:MAILTO:[email protected]
ATTENDEE;ROLE=REQ-PARTICIPANT;RSVP=TRUE:MAILTO:[email protected]
ATTENDEE;ROLE=REQ-PARTICIPANT;RSVP=TRUE:MAILTO:[email protected]
ATTENDEE;ROLE=REQ-PARTICIPANT;RSVP=TRUE:MAILTO:[email protected]
ATTENDEE;ROLE=REQ-PARTICIPANT;RSVP=TRUE:MAILTO:[email protected]
ATTENDEE;ROLE=REQ-PARTICIPANT;RSVP=TRUE:MAILTO:[email protected]
ATTENDEE;ROLE=REQ-PARTICIPANT;RSVP=TRUE:MAILTO:[email protected]
ATTENDEE;ROLE=REQ-PARTICIPANT;RSVP=TRUE:MAILTO:[email protected]
ATTENDEE;ROLE=REQ-PARTICIPANT;RSVP=TRUE:MAILTO:[email protected]
ATTENDEE;ROLE=REQ-PARTICIPANT;RSVP=TRUE:MAILTO:[email protected]
ATTENDEE;ROLE=REQ-PARTICIPANT;RSVP=TRUE:MAILTO:[email protected]
ATTENDEE;ROLE=REQ-PARTICIPANT;RSVP=TRUE:MAILTO:[email protected]
ATTENDEE;ROLE=REQ-PARTICIPANT;RSVP=TRUE:MAILTO:[email protected]
ATTENDEE;ROLE=REQ-PARTICIPANT;RSVP=TRUE:MAILTO:[email protected]
ATTENDEE;ROLE=REQ-PARTICIPANT;RSVP=TRUE:MAILTO:[email protected]
ATTENDEE;ROLE=REQ-PARTICIPANT;RSVP=TRUE:MAILTO:[email protected]
ATTENDEE;ROLE=REQ-PARTICIPANT;RSVP=TRUE:MAILTO:[email protected]
ATTENDEE;ROLE=REQ-PARTICIPANT;RSVP=TRUE:MAILTO:[email protected]
ATTENDEE;ROLE=REQ-PARTICIPANT;RSVP=TRUE:MAILTO:[email protected]
ATTENDEE;ROLE=REQ-PARTICIPANT;RSVP=TRUE:MAILTO:[email protected]
ATTENDEE;ROLE=REQ-PARTICIPANT;RSVP=TRUE:MAILTO:[email protected]
ATTENDEE;ROLE=REQ-PARTICIPANT;RSVP=TRUE:MAILTO:[email protected]
ATTENDEE;ROLE=REQ-PARTICIPANT;RSVP=TRUE:MAILTO:[email protected]
ATTENDEE;ROLE=REQ-PARTICIPANT;RSVP=TRUE:MAILTO:[email protected]
ATTENDEE;ROLE=REQ-PARTICIPANT;RSVP=TRUE:MAILTO:[email protected]
ATTENDEE;ROLE=REQ-PARTICIPANT;RSVP=TRUE:MAILTO:[email protected]
ATTENDEE;ROLE=REQ-PARTICIPANT;RSVP=TRUE:MAILTO:[email protected]
ATTENDEE;ROLE=REQ-PARTICIPANT;RSVP=TRUE:MAILTO:[email protected]
ATTENDEE;ROLE=REQ-PARTICIPANT;RSVP=TRUE:MAILTO:[email protected]
ATTENDEE;ROLE=REQ-PARTICIPANT;RSVP=TRUE:MAILTO:[email protected]
ATTENDEE;ROLE=REQ-PARTICIPANT;RSVP=TRUE:MAILTO:[email protected]
ATTENDEE;ROLE=REQ-PARTICIPANT;RSVP=TRUE:MAILTO:[email protected]
ATTENDEE;ROLE=REQ-PARTICIPANT;RSVP=TRUE:MAILTO:[email protected]
ATTENDEE;ROLE=REQ-PARTICIPANT;RSVP=TRUE:MAILTO:[email protected]
ATTENDEE;ROLE=REQ-PARTICIPANT;RSVP=TRUE:MAILTO:[email protected]
ATTENDEE;ROLE=REQ-PARTICIPANT;RSVP=TRUE:MAILTO:[email protected]
ATTENDEE;ROLE=REQ-PARTICIPANT;RSVP=TRUE:MAILTO:[email protected]
ATTENDEE;ROLE=REQ-PARTICIPANT;RSVP=TRUE:MAILTO:[email protected]
ATTENDEE;ROLE=REQ-PARTICIPANT;RSVP=TRUE:MAILTO:[email protected]
ATTENDEE;ROLE=REQ-PARTICIPANT;RSVP=TRUE:MAILTO:[email protected]
ATTENDEE;ROLE=REQ-PARTICIPANT;RSVP=TRUE:MAILTO:[email protected]
ATTENDEE;ROLE=REQ-PARTICIPANT;RSVP=TRUE:MAILTO:[email protected]
ATTENDEE;ROLE=REQ-PARTICIPANT;RSVP=TRUE:MAILTO:[email protected]
ATTENDEE;ROLE=REQ-PARTICIPANT;RSVP=TRUE:MAILTO:[email protected]
ATTENDEE;ROLE=REQ-PARTICIPANT;RSVP=TRUE:MAILTO:[email protected]
ATTENDEE;ROLE=REQ-PARTICIPANT;RSVP=TRUE:MAILTO:[email protected]
ATTENDEE;ROLE=REQ-PARTICIPANT;RSVP=TRUE:MAILTO:[email protected]
ATTENDEE;ROLE=REQ-PARTICIPANT;RSVP=TRUE:MAILTO:[email protected]
ATTENDEE;ROLE=REQ-PARTICIPANT;RSVP=TRUE:MAILTO:[email protected]
ATTENDEE;ROLE=REQ-PARTICIPANT;RSVP=TRUE:MAILTO:[email protected]
ATTENDEE;ROLE=REQ-PARTICIPANT;RSVP=TRUE:MAILTO:[email protected]
ATTENDEE;ROLE=REQ-PARTICIPANT;RSVP=TRUE:MAILTO:[email protected]
ATTENDEE;ROLE=REQ-PARTICIPANT;RSVP=TRUE:MAILTO:[email protected]
ATTENDEE;ROLE=REQ-PARTICIPANT;RSVP=TRUE:MAILTO:[email protected]
ATTENDEE;ROLE=REQ-PARTICIPANT;RSVP=TRUE:MAILTO:[email protected]
ATTENDEE;ROLE=REQ-PARTICIPANT;RSVP=TRUE:MAILTO:[email protected]
ATTENDEE;ROLE=REQ-PARTICIPANT;RSVP=TRUE:MAILTO:[email protected]
ATTENDEE;ROLE=REQ-PARTICIPANT;RSVP=TRUE:MAILTO:[email protected]
ATTENDEE;ROLE=REQ-PARTICIPANT;RSVP=TRUE:MAILTO:[email protected]
ATTENDEE;ROLE=REQ-PARTICIPANT;RSVP=TRUE:MAILTO:[email protected]
ATTENDEE;ROLE=REQ-PARTICIPANT;RSVP=TRUE:MAILTO:[email protected]
ATTENDEE;ROLE=REQ-PARTICIPANT;RSVP=TRUE:MAILTO:[email protected]
ATTENDEE;ROLE=REQ-PARTICIPANT;RSVP=TRUE:MAILTO:[email protected]
ATTENDEE;ROLE=REQ-PARTICIPANT;RSVP=TRUE:MAILTO:[email protected]
ATTENDEE;ROLE=REQ-PARTICIPANT;RSVP=TRUE:MAILTO:[email protected]
ATTENDEE;ROLE=REQ-PARTICIPANT;RSVP=TRUE:MAILTO:[email protected]
ATTENDEE;ROLE=REQ-PARTICIPANT;RSVP=TRUE:MAILTO:[email protected]
ATTENDEE;ROLE=REQ-PARTICIPANT;RSVP=TRUE:MAILTO:[email protected]
ATTENDEE;ROLE=REQ-PARTICIPANT;RSVP=TRUE:MAILTO:[email protected]
ATTENDEE;ROLE=REQ-PARTICIPANT;RSVP=TRUE:MAILTO:[email protected]
ATTENDEE;ROLE=REQ-PARTICIPANT;RSVP=TRUE:MAILTO:[email protected]
ATTENDEE;ROLE=REQ-PARTICIPANT;RSVP=TRUE:MAILTO:[email protected]
ATTENDEE;ROLE=REQ-PARTICIPANT;RSVP=TRUE:MAILTO:[email protected]
ATTENDEE;ROLE=REQ-PARTICIPANT;RSVP=TRUE:MAILTO:[email protected]
ATTENDEE;ROLE=REQ-PARTICIPANT;RSVP=TRUE:MAILTO:[email protected]
ATTENDEE;ROLE=REQ-PARTICIPANT;RSVP=TRUE:MAILTO:[email protected]
ATTENDEE;ROLE=REQ-PARTICIPANT;RSVP=TRUE:MAILTO:[email protected]
ATTENDEE;ROLE=REQ-PARTICIPANT;RSVP=TRUE:MAILTO:[email protected]
ATTENDEE;ROLE=REQ-PARTICIPANT;RSVP=TRUE:MAILTO:[email protected]
ATTENDEE;ROLE=REQ-PARTICIPANT;RSVP=TRUE:MAILTO:[email protected]
ATTENDEE;ROLE=REQ-PARTICIPANT;RSVP=TRUE:MAILTO:[email protected]
ATTENDEE;ROLE=REQ-PARTICIPANT;RSVP=TRUE:MAILTO:[email protected]
ATTENDEE;ROLE=REQ-PARTICIPANT;RSVP=TRUE:MAILTO:[email protected]
ATTENDEE;ROLE=REQ-PARTICIPANT;RSVP=TRUE:MAILTO:[email protected]
ATTENDEE;ROLE=REQ-PARTICIPANT;RSVP=TRUE:MAILTO:[email protected]
ATTENDEE;ROLE=REQ-PARTICIPANT;RSVP=TRUE:MAILTO:[email protected]
ATTENDEE;ROLE=REQ-PARTICIPANT;RSVP=TRUE:MAILTO:[email protected]
ORGANIZER;CN=kamanna rugi:MAILTO:[email protected]
DTSTART:20230916T014400Z
DTEND:20230916T015900Z
LOCATION:https://docs.google.com/presentation/d/1kXYBzc5Gn7Ws1ItQCF9ngOfYtTQzIL3Huik6b6DLYmM/preview
TRANSP:OPAQUE
SEQUENCE:0
UID:739db9348d-b30d5be90c-2f4417e0d1-654048cb92-b91ec0c9da-f6844bf7e6
DTSTAMP:20230915T204023Z
CATEGORIES:A
DESCRIPTION:When: 16 September 2023 07:14-07:29 (GMT+05:30)\nWhere: https://docs.google.com/presentation/d/1kXYBzc5Gn7Ws1ItQCF9ngOfYtTQzIL3Huik6b6DLYmM/preview\n\n*~*~*~*~*~*~*~*~*~*\n\n
SUMMARY:33173
PRIORITY:5
X-MICROSOFT-CDO-IMPORTANCE:1
CLASS:PRIVATE
END:VEVENT
END:VCALENDAR