BEGIN:VCALENDAR
VERSION:2.0
PRODID:-//Rediff.com India Ltd.//Rediff cal MIMEDIR//EN
METHOD:REQUEST
BEGIN:VTIMEZONE
TZID:Asia/Kolkata
BEGIN:STANDARD
DTSTART:19710101T000000
TZOFFSETTO:+0530
TZOFFSETFROM:+0530
TZNAME:IST
END:STANDARD
END:VTIMEZONE
BEGIN:VEVENT
ATTENDEE;ROLE=REQ-PARTICIPANT;RSVP=TRUE:MAILTO:[email protected]
ATTENDEE;ROLE=REQ-PARTICIPANT;RSVP=TRUE:MAILTO:[email protected]
ATTENDEE;ROLE=REQ-PARTICIPANT;RSVP=TRUE:MAILTO:[email protected]
ATTENDEE;ROLE=REQ-PARTICIPANT;RSVP=TRUE:MAILTO:[email protected]
ATTENDEE;ROLE=REQ-PARTICIPANT;RSVP=TRUE:MAILTO:[email protected]
ATTENDEE;ROLE=REQ-PARTICIPANT;RSVP=TRUE:MAILTO:[email protected]
ATTENDEE;ROLE=REQ-PARTICIPANT;RSVP=TRUE:MAILTO:[email protected]
ATTENDEE;ROLE=REQ-PARTICIPANT;RSVP=TRUE:MAILTO:[email protected]
ATTENDEE;ROLE=REQ-PARTICIPANT;RSVP=TRUE:MAILTO:[email protected]
ATTENDEE;ROLE=REQ-PARTICIPANT;RSVP=TRUE:MAILTO:[email protected]
ATTENDEE;ROLE=REQ-PARTICIPANT;RSVP=TRUE:MAILTO:[email protected]
ATTENDEE;ROLE=REQ-PARTICIPANT;RSVP=TRUE:MAILTO:[email protected]
ATTENDEE;ROLE=REQ-PARTICIPANT;RSVP=TRUE:MAILTO:[email protected]
ATTENDEE;ROLE=REQ-PARTICIPANT;RSVP=TRUE:MAILTO:[email protected]
ATTENDEE;ROLE=REQ-PARTICIPANT;RSVP=TRUE:MAILTO:[email protected]
ATTENDEE;ROLE=REQ-PARTICIPANT;RSVP=TRUE:MAILTO:[email protected]
ATTENDEE;ROLE=REQ-PARTICIPANT;RSVP=TRUE:MAILTO:[email protected]
ATTENDEE;ROLE=REQ-PARTICIPANT;RSVP=TRUE:MAILTO:[email protected]
ATTENDEE;ROLE=REQ-PARTICIPANT;RSVP=TRUE:MAILTO:[email protected]
ATTENDEE;ROLE=REQ-PARTICIPANT;RSVP=TRUE:MAILTO:[email protected]
ATTENDEE;ROLE=REQ-PARTICIPANT;RSVP=TRUE:MAILTO:[email protected]
ATTENDEE;ROLE=REQ-PARTICIPANT;RSVP=TRUE:MAILTO:[email protected]
ATTENDEE;ROLE=REQ-PARTICIPANT;RSVP=TRUE:MAILTO:[email protected]
ATTENDEE;ROLE=REQ-PARTICIPANT;RSVP=TRUE:MAILTO:[email protected]
ATTENDEE;ROLE=REQ-PARTICIPANT;RSVP=TRUE:MAILTO:[email protected]
ATTENDEE;ROLE=REQ-PARTICIPANT;RSVP=TRUE:MAILTO:[email protected]
ATTENDEE;ROLE=REQ-PARTICIPANT;RSVP=TRUE:MAILTO:[email protected]
ATTENDEE;ROLE=REQ-PARTICIPANT;RSVP=TRUE:MAILTO:[email protected]
ATTENDEE;ROLE=REQ-PARTICIPANT;RSVP=TRUE:MAILTO:[email protected]
ATTENDEE;ROLE=REQ-PARTICIPANT;RSVP=TRUE:MAILTO:[email protected]
ATTENDEE;ROLE=REQ-PARTICIPANT;RSVP=TRUE:MAILTO:[email protected]
ATTENDEE;ROLE=REQ-PARTICIPANT;RSVP=TRUE:MAILTO:[email protected]
ATTENDEE;ROLE=REQ-PARTICIPANT;RSVP=TRUE:MAILTO:[email protected]
ATTENDEE;ROLE=REQ-PARTICIPANT;RSVP=TRUE:MAILTO:[email protected]
ATTENDEE;ROLE=REQ-PARTICIPANT;RSVP=TRUE:MAILTO:[email protected]
ATTENDEE;ROLE=REQ-PARTICIPANT;RSVP=TRUE:MAILTO:[email protected]
ATTENDEE;ROLE=REQ-PARTICIPANT;RSVP=TRUE:MAILTO:[email protected]
ATTENDEE;ROLE=REQ-PARTICIPANT;RSVP=TRUE:MAILTO:[email protected]
ATTENDEE;ROLE=REQ-PARTICIPANT;RSVP=TRUE:MAILTO:[email protected]
ATTENDEE;ROLE=REQ-PARTICIPANT;RSVP=TRUE:MAILTO:[email protected]
ATTENDEE;ROLE=REQ-PARTICIPANT;RSVP=TRUE:MAILTO:[email protected]
ATTENDEE;ROLE=REQ-PARTICIPANT;RSVP=TRUE:MAILTO:[email protected]
ATTENDEE;ROLE=REQ-PARTICIPANT;RSVP=TRUE:MAILTO:[email protected]
ATTENDEE;ROLE=REQ-PARTICIPANT;RSVP=TRUE:MAILTO:[email protected]
ATTENDEE;ROLE=REQ-PARTICIPANT;RSVP=TRUE:MAILTO:[email protected]
ATTENDEE;ROLE=REQ-PARTICIPANT;RSVP=TRUE:MAILTO:[email protected]
ATTENDEE;ROLE=REQ-PARTICIPANT;RSVP=TRUE:MAILTO:[email protected]
ATTENDEE;ROLE=REQ-PARTICIPANT;RSVP=TRUE:MAILTO:[email protected]
ATTENDEE;ROLE=REQ-PARTICIPANT;RSVP=TRUE:MAILTO:[email protected]
ATTENDEE;ROLE=REQ-PARTICIPANT;RSVP=TRUE:MAILTO:[email protected]
ATTENDEE;ROLE=REQ-PARTICIPANT;RSVP=TRUE:MAILTO:[email protected]
ATTENDEE;ROLE=REQ-PARTICIPANT;RSVP=TRUE:MAILTO:[email protected]
ATTENDEE;ROLE=REQ-PARTICIPANT;RSVP=TRUE:MAILTO:[email protected]
ATTENDEE;ROLE=REQ-PARTICIPANT;RSVP=TRUE:MAILTO:[email protected]
ATTENDEE;ROLE=REQ-PARTICIPANT;RSVP=TRUE:MAILTO:[email protected]
ATTENDEE;ROLE=REQ-PARTICIPANT;RSVP=TRUE:MAILTO:[email protected]
ATTENDEE;ROLE=REQ-PARTICIPANT;RSVP=TRUE:MAILTO:[email protected]
ATTENDEE;ROLE=REQ-PARTICIPANT;RSVP=TRUE:MAILTO:[email protected]
ATTENDEE;ROLE=REQ-PARTICIPANT;RSVP=TRUE:MAILTO:[email protected]
ATTENDEE;ROLE=REQ-PARTICIPANT;RSVP=TRUE:MAILTO:[email protected]
ATTENDEE;ROLE=REQ-PARTICIPANT;RSVP=TRUE:MAILTO:[email protected]
ATTENDEE;ROLE=REQ-PARTICIPANT;RSVP=TRUE:MAILTO:[email protected]
ATTENDEE;ROLE=REQ-PARTICIPANT;RSVP=TRUE:MAILTO:[email protected]
ATTENDEE;ROLE=REQ-PARTICIPANT;RSVP=TRUE:MAILTO:[email protected]
ATTENDEE;ROLE=REQ-PARTICIPANT;RSVP=TRUE:MAILTO:[email protected]
ATTENDEE;ROLE=REQ-PARTICIPANT;RSVP=TRUE:MAILTO:[email protected]
ATTENDEE;ROLE=REQ-PARTICIPANT;RSVP=TRUE:MAILTO:[email protected]
ATTENDEE;ROLE=REQ-PARTICIPANT;RSVP=TRUE:MAILTO:[email protected]
ATTENDEE;ROLE=REQ-PARTICIPANT;RSVP=TRUE:MAILTO:[email protected]
ATTENDEE;ROLE=REQ-PARTICIPANT;RSVP=TRUE:MAILTO:[email protected]
ATTENDEE;ROLE=REQ-PARTICIPANT;RSVP=TRUE:MAILTO:[email protected]
ATTENDEE;ROLE=REQ-PARTICIPANT;RSVP=TRUE:MAILTO:[email protected]
ATTENDEE;ROLE=REQ-PARTICIPANT;RSVP=TRUE:MAILTO:[email protected]
ATTENDEE;ROLE=REQ-PARTICIPANT;RSVP=TRUE:MAILTO:[email protected]
ATTENDEE;ROLE=REQ-PARTICIPANT;RSVP=TRUE:MAILTO:[email protected]
ATTENDEE;ROLE=REQ-PARTICIPANT;RSVP=TRUE:MAILTO:[email protected]
ATTENDEE;ROLE=REQ-PARTICIPANT;RSVP=TRUE:MAILTO:[email protected]
ATTENDEE;ROLE=REQ-PARTICIPANT;RSVP=TRUE:MAILTO:[email protected]
ATTENDEE;ROLE=REQ-PARTICIPANT;RSVP=TRUE:MAILTO:[email protected]
ATTENDEE;ROLE=REQ-PARTICIPANT;RSVP=TRUE:MAILTO:[email protected]
ATTENDEE;ROLE=REQ-PARTICIPANT;RSVP=TRUE:MAILTO:[email protected]
ATTENDEE;ROLE=REQ-PARTICIPANT;RSVP=TRUE:MAILTO:[email protected]
ORGANIZER;CN=sarwan kumar:MAILTO:[email protected]
DTSTART:20230916T023600Z
DTEND:20230916T025100Z
LOCATION:https://docs.google.com/presentation/d/14UY8O8zy5wS4awj2INPWGEgnHKskew7_pwryca_Sbhg/preview
TRANSP:OPAQUE
SEQUENCE:0
UID:e91b2f7e4a-e37bd2c07d-43ea90d914-068a03c5f2-0ba6f1bee1-cea0a54f60
DTSTAMP:20230915T205208Z
CATEGORIES:A
DESCRIPTION:When: 16 September 2023 08:06-08:21 (GMT+05:30)\nWhere: https://docs.google.com/presentation/d/14UY8O8zy5wS4awj2INPWGEgnHKskew7_pwryca_Sbhg/preview\n\n*~*~*~*~*~*~*~*~*~*\n\n
SUMMARY:31510
PRIORITY:5
X-MICROSOFT-CDO-IMPORTANCE:1
CLASS:PRIVATE
END:VEVENT
END:VCALENDAR