BEGIN:VCALENDAR
VERSION:2.0
PRODID:-//Rediff.com India Ltd.//Rediff cal MIMEDIR//EN
METHOD:REQUEST
BEGIN:VTIMEZONE
TZID:Asia/Kolkata
BEGIN:STANDARD
DTSTART:19710101T000000
TZOFFSETTO:+0530
TZOFFSETFROM:+0530
TZNAME:IST
END:STANDARD
END:VTIMEZONE
BEGIN:VEVENT
ATTENDEE;ROLE=REQ-PARTICIPANT;RSVP=TRUE:MAILTO:[email protected]
ATTENDEE;ROLE=REQ-PARTICIPANT;RSVP=TRUE:MAILTO:[email protected]
ATTENDEE;ROLE=REQ-PARTICIPANT;RSVP=TRUE:MAILTO:[email protected]
ATTENDEE;ROLE=REQ-PARTICIPANT;RSVP=TRUE:MAILTO:[email protected]
ATTENDEE;ROLE=REQ-PARTICIPANT;RSVP=TRUE:MAILTO:[email protected]
ATTENDEE;ROLE=REQ-PARTICIPANT;RSVP=TRUE:MAILTO:[email protected]
ATTENDEE;ROLE=REQ-PARTICIPANT;RSVP=TRUE:MAILTO:[email protected]
ATTENDEE;ROLE=REQ-PARTICIPANT;RSVP=TRUE:MAILTO:[email protected]
ATTENDEE;ROLE=REQ-PARTICIPANT;RSVP=TRUE:MAILTO:[email protected]
ATTENDEE;ROLE=REQ-PARTICIPANT;RSVP=TRUE:MAILTO:[email protected]
ATTENDEE;ROLE=REQ-PARTICIPANT;RSVP=TRUE:MAILTO:[email protected]
ATTENDEE;ROLE=REQ-PARTICIPANT;RSVP=TRUE:MAILTO:[email protected]
ATTENDEE;ROLE=REQ-PARTICIPANT;RSVP=TRUE:MAILTO:[email protected]
ATTENDEE;ROLE=REQ-PARTICIPANT;RSVP=TRUE:MAILTO:[email protected]
ATTENDEE;ROLE=REQ-PARTICIPANT;RSVP=TRUE:MAILTO:[email protected]
ATTENDEE;ROLE=REQ-PARTICIPANT;RSVP=TRUE:MAILTO:[email protected]
ATTENDEE;ROLE=REQ-PARTICIPANT;RSVP=TRUE:MAILTO:[email protected]
ATTENDEE;ROLE=REQ-PARTICIPANT;RSVP=TRUE:MAILTO:[email protected]
ATTENDEE;ROLE=REQ-PARTICIPANT;RSVP=TRUE:MAILTO:[email protected]
ATTENDEE;ROLE=REQ-PARTICIPANT;RSVP=TRUE:MAILTO:[email protected]
ATTENDEE;ROLE=REQ-PARTICIPANT;RSVP=TRUE:MAILTO:[email protected]
ATTENDEE;ROLE=REQ-PARTICIPANT;RSVP=TRUE:MAILTO:[email protected]
ATTENDEE;ROLE=REQ-PARTICIPANT;RSVP=TRUE:MAILTO:[email protected]
ATTENDEE;ROLE=REQ-PARTICIPANT;RSVP=TRUE:MAILTO:[email protected]
ATTENDEE;ROLE=REQ-PARTICIPANT;RSVP=TRUE:MAILTO:[email protected]
ATTENDEE;ROLE=REQ-PARTICIPANT;RSVP=TRUE:MAILTO:[email protected]
ATTENDEE;ROLE=REQ-PARTICIPANT;RSVP=TRUE:MAILTO:[email protected]
ATTENDEE;ROLE=REQ-PARTICIPANT;RSVP=TRUE:MAILTO:[email protected]
ATTENDEE;ROLE=REQ-PARTICIPANT;RSVP=TRUE:MAILTO:[email protected]
ATTENDEE;ROLE=REQ-PARTICIPANT;RSVP=TRUE:MAILTO:[email protected]
ATTENDEE;ROLE=REQ-PARTICIPANT;RSVP=TRUE:MAILTO:[email protected]
ATTENDEE;ROLE=REQ-PARTICIPANT;RSVP=TRUE:MAILTO:[email protected]
ATTENDEE;ROLE=REQ-PARTICIPANT;RSVP=TRUE:MAILTO:[email protected]
ATTENDEE;ROLE=REQ-PARTICIPANT;RSVP=TRUE:MAILTO:[email protected]
ATTENDEE;ROLE=REQ-PARTICIPANT;RSVP=TRUE:MAILTO:[email protected]
ATTENDEE;ROLE=REQ-PARTICIPANT;RSVP=TRUE:MAILTO:[email protected]
ATTENDEE;ROLE=REQ-PARTICIPANT;RSVP=TRUE:MAILTO:[email protected]
ATTENDEE;ROLE=REQ-PARTICIPANT;RSVP=TRUE:MAILTO:[email protected]
ATTENDEE;ROLE=REQ-PARTICIPANT;RSVP=TRUE:MAILTO:[email protected]
ATTENDEE;ROLE=REQ-PARTICIPANT;RSVP=TRUE:MAILTO:[email protected]
ATTENDEE;ROLE=REQ-PARTICIPANT;RSVP=TRUE:MAILTO:[email protected]
ATTENDEE;ROLE=REQ-PARTICIPANT;RSVP=TRUE:MAILTO:[email protected]
ATTENDEE;ROLE=REQ-PARTICIPANT;RSVP=TRUE:MAILTO:[email protected]
ATTENDEE;ROLE=REQ-PARTICIPANT;RSVP=TRUE:MAILTO:[email protected]
ATTENDEE;ROLE=REQ-PARTICIPANT;RSVP=TRUE:MAILTO:[email protected]
ATTENDEE;ROLE=REQ-PARTICIPANT;RSVP=TRUE:MAILTO:[email protected]
ATTENDEE;ROLE=REQ-PARTICIPANT;RSVP=TRUE:MAILTO:[email protected]
ATTENDEE;ROLE=REQ-PARTICIPANT;RSVP=TRUE:MAILTO:[email protected]
ATTENDEE;ROLE=REQ-PARTICIPANT;RSVP=TRUE:MAILTO:[email protected]
ATTENDEE;ROLE=REQ-PARTICIPANT;RSVP=TRUE:MAILTO:[email protected]
ATTENDEE;ROLE=REQ-PARTICIPANT;RSVP=TRUE:MAILTO:[email protected]
ATTENDEE;ROLE=REQ-PARTICIPANT;RSVP=TRUE:MAILTO:[email protected]
ATTENDEE;ROLE=REQ-PARTICIPANT;RSVP=TRUE:MAILTO:[email protected]
ATTENDEE;ROLE=REQ-PARTICIPANT;RSVP=TRUE:MAILTO:[email protected]
ATTENDEE;ROLE=REQ-PARTICIPANT;RSVP=TRUE:MAILTO:[email protected]
ATTENDEE;ROLE=REQ-PARTICIPANT;RSVP=TRUE:MAILTO:[email protected]
ATTENDEE;ROLE=REQ-PARTICIPANT;RSVP=TRUE:MAILTO:[email protected]
ATTENDEE;ROLE=REQ-PARTICIPANT;RSVP=TRUE:MAILTO:[email protected]
ATTENDEE;ROLE=REQ-PARTICIPANT;RSVP=TRUE:MAILTO:[email protected]
ATTENDEE;ROLE=REQ-PARTICIPANT;RSVP=TRUE:MAILTO:[email protected]
ATTENDEE;ROLE=REQ-PARTICIPANT;RSVP=TRUE:MAILTO:[email protected]
ATTENDEE;ROLE=REQ-PARTICIPANT;RSVP=TRUE:MAILTO:[email protected]
ATTENDEE;ROLE=REQ-PARTICIPANT;RSVP=TRUE:MAILTO:[email protected]
ATTENDEE;ROLE=REQ-PARTICIPANT;RSVP=TRUE:MAILTO:[email protected]
ATTENDEE;ROLE=REQ-PARTICIPANT;RSVP=TRUE:MAILTO:[email protected]
ATTENDEE;ROLE=REQ-PARTICIPANT;RSVP=TRUE:MAILTO:[email protected]
ATTENDEE;ROLE=REQ-PARTICIPANT;RSVP=TRUE:MAILTO:[email protected]
ATTENDEE;ROLE=REQ-PARTICIPANT;RSVP=TRUE:MAILTO:[email protected]
ATTENDEE;ROLE=REQ-PARTICIPANT;RSVP=TRUE:MAILTO:[email protected]
ATTENDEE;ROLE=REQ-PARTICIPANT;RSVP=TRUE:MAILTO:[email protected]
ATTENDEE;ROLE=REQ-PARTICIPANT;RSVP=TRUE:MAILTO:[email protected]
ATTENDEE;ROLE=REQ-PARTICIPANT;RSVP=TRUE:MAILTO:[email protected]
ATTENDEE;ROLE=REQ-PARTICIPANT;RSVP=TRUE:MAILTO:[email protected]
ATTENDEE;ROLE=REQ-PARTICIPANT;RSVP=TRUE:MAILTO:[email protected]
ATTENDEE;ROLE=REQ-PARTICIPANT;RSVP=TRUE:MAILTO:[email protected]
ATTENDEE;ROLE=REQ-PARTICIPANT;RSVP=TRUE:MAILTO:[email protected]
ATTENDEE;ROLE=REQ-PARTICIPANT;RSVP=TRUE:MAILTO:[email protected]
ATTENDEE;ROLE=REQ-PARTICIPANT;RSVP=TRUE:MAILTO:[email protected]
ATTENDEE;ROLE=REQ-PARTICIPANT;RSVP=TRUE:MAILTO:[email protected]
ATTENDEE;ROLE=REQ-PARTICIPANT;RSVP=TRUE:MAILTO:[email protected]
ATTENDEE;ROLE=REQ-PARTICIPANT;RSVP=TRUE:MAILTO:[email protected]
ATTENDEE;ROLE=REQ-PARTICIPANT;RSVP=TRUE:MAILTO:[email protected]
ATTENDEE;ROLE=REQ-PARTICIPANT;RSVP=TRUE:MAILTO:[email protected]
ATTENDEE;ROLE=REQ-PARTICIPANT;RSVP=TRUE:MAILTO:[email protected]
ATTENDEE;ROLE=REQ-PARTICIPANT;RSVP=TRUE:MAILTO:[email protected]
ATTENDEE;ROLE=REQ-PARTICIPANT;RSVP=TRUE:MAILTO:[email protected]
ATTENDEE;ROLE=REQ-PARTICIPANT;RSVP=TRUE:MAILTO:[email protected]
ATTENDEE;ROLE=REQ-PARTICIPANT;RSVP=TRUE:MAILTO:[email protected]
ATTENDEE;ROLE=REQ-PARTICIPANT;RSVP=TRUE:MAILTO:[email protected]
ATTENDEE;ROLE=REQ-PARTICIPANT;RSVP=TRUE:MAILTO:[email protected]
ATTENDEE;ROLE=REQ-PARTICIPANT;RSVP=TRUE:MAILTO:[email protected]
ATTENDEE;ROLE=REQ-PARTICIPANT;RSVP=TRUE:MAILTO:[email protected]
ATTENDEE;ROLE=REQ-PARTICIPANT;RSVP=TRUE:MAILTO:[email protected]
ATTENDEE;ROLE=REQ-PARTICIPANT;RSVP=TRUE:MAILTO:[email protected]
ATTENDEE;ROLE=REQ-PARTICIPANT;RSVP=TRUE:MAILTO:[email protected]
ATTENDEE;ROLE=REQ-PARTICIPANT;RSVP=TRUE:MAILTO:[email protected]
ATTENDEE;ROLE=REQ-PARTICIPANT;RSVP=TRUE:MAILTO:[email protected]
ATTENDEE;ROLE=REQ-PARTICIPANT;RSVP=TRUE:MAILTO:[email protected]
ATTENDEE;ROLE=REQ-PARTICIPANT;RSVP=TRUE:MAILTO:[email protected]
ATTENDEE;ROLE=REQ-PARTICIPANT;RSVP=TRUE:MAILTO:[email protected]
ATTENDEE;ROLE=REQ-PARTICIPANT;RSVP=TRUE:MAILTO:[email protected]
ATTENDEE;ROLE=REQ-PARTICIPANT;RSVP=TRUE:MAILTO:[email protected]
ATTENDEE;ROLE=REQ-PARTICIPANT;RSVP=TRUE:MAILTO:[email protected]
ATTENDEE;ROLE=REQ-PARTICIPANT;RSVP=TRUE:MAILTO:[email protected]
ATTENDEE;ROLE=REQ-PARTICIPANT;RSVP=TRUE:MAILTO:[email protected]
ATTENDEE;ROLE=REQ-PARTICIPANT;RSVP=TRUE:MAILTO:[email protected]
ATTENDEE;ROLE=REQ-PARTICIPANT;RSVP=TRUE:MAILTO:[email protected]
ATTENDEE;ROLE=REQ-PARTICIPANT;RSVP=TRUE:MAILTO:[email protected]
ATTENDEE;ROLE=REQ-PARTICIPANT;RSVP=TRUE:MAILTO:[email protected]
ATTENDEE;ROLE=REQ-PARTICIPANT;RSVP=TRUE:MAILTO:[email protected]
ATTENDEE;ROLE=REQ-PARTICIPANT;RSVP=TRUE:MAILTO:[email protected]
ATTENDEE;ROLE=REQ-PARTICIPANT;RSVP=TRUE:MAILTO:[email protected]
ATTENDEE;ROLE=REQ-PARTICIPANT;RSVP=TRUE:MAILTO:[email protected]
ATTENDEE;ROLE=REQ-PARTICIPANT;RSVP=TRUE:MAILTO:[email protected]
ATTENDEE;ROLE=REQ-PARTICIPANT;RSVP=TRUE:MAILTO:[email protected]
ATTENDEE;ROLE=REQ-PARTICIPANT;RSVP=TRUE:MAILTO:[email protected]
ATTENDEE;ROLE=REQ-PARTICIPANT;RSVP=TRUE:MAILTO:[email protected]
ATTENDEE;ROLE=REQ-PARTICIPANT;RSVP=TRUE:MAILTO:[email protected]
ATTENDEE;ROLE=REQ-PARTICIPANT;RSVP=TRUE:MAILTO:[email protected]
ATTENDEE;ROLE=REQ-PARTICIPANT;RSVP=TRUE:MAILTO:[email protected]
ATTENDEE;ROLE=REQ-PARTICIPANT;RSVP=TRUE:MAILTO:[email protected]
ATTENDEE;ROLE=REQ-PARTICIPANT;RSVP=TRUE:MAILTO:[email protected]
ATTENDEE;ROLE=REQ-PARTICIPANT;RSVP=TRUE:MAILTO:[email protected]
ATTENDEE;ROLE=REQ-PARTICIPANT;RSVP=TRUE:MAILTO:[email protected]
ATTENDEE;ROLE=REQ-PARTICIPANT;RSVP=TRUE:MAILTO:[email protected]
ATTENDEE;ROLE=REQ-PARTICIPANT;RSVP=TRUE:MAILTO:[email protected]
ATTENDEE;ROLE=REQ-PARTICIPANT;RSVP=TRUE:MAILTO:[email protected]
ATTENDEE;ROLE=REQ-PARTICIPANT;RSVP=TRUE:MAILTO:[email protected]
ATTENDEE;ROLE=REQ-PARTICIPANT;RSVP=TRUE:MAILTO:[email protected]
ATTENDEE;ROLE=REQ-PARTICIPANT;RSVP=TRUE:MAILTO:[email protected]
ATTENDEE;ROLE=REQ-PARTICIPANT;RSVP=TRUE:MAILTO:[email protected]
ATTENDEE;ROLE=REQ-PARTICIPANT;RSVP=TRUE:MAILTO:[email protected]
ATTENDEE;ROLE=REQ-PARTICIPANT;RSVP=TRUE:MAILTO:[email protected]
ATTENDEE;ROLE=REQ-PARTICIPANT;RSVP=TRUE:MAILTO:[email protected]
ORGANIZER;CN=Nitish babu:MAILTO:[email protected]
DTSTART:20230916T024400Z
DTEND:20230916T025900Z
LOCATION:https://docs.google.com/presentation/d/1Yz2qL6-9r7uOpwLBB7Wjo_DGd6a-mO63ZyJpNrmmMVI/preview
TRANSP:OPAQUE
SEQUENCE:0
UID:5fc95c7918-585d15e3a9-ebf0cc3f10-e524519461-f889001518-4578e79b9f
DTSTAMP:20230915T210020Z
CATEGORIES:A
DESCRIPTION:When: 16 September 2023 08:14-08:29 (GMT+05:30)\nWhere: https://docs.google.com/presentation/d/1Yz2qL6-9r7uOpwLBB7Wjo_DGd6a-mO63ZyJpNrmmMVI/preview\n\n*~*~*~*~*~*~*~*~*~*\n\n
SUMMARY:30301
PRIORITY:5
X-MICROSOFT-CDO-IMPORTANCE:1
CLASS:PRIVATE
END:VEVENT
END:VCALENDAR