This run is configured for baseline tests only. flight 72226 ovmf real [real] http://osstest.xs.citrite.net/~osstest/testlogs/logs/72226/
Perfect :-) All tests in this flight passed as required version targeted for testing: ovmf 3673214c6e0eb94de9e52221cca454a3ba5976ab baseline version: ovmf 728d74973c9262b6c7b7ef4be213223d55affec3 Last test of basis 72221 2017-10-09 14:17:32 Z 1 days Testing same since 72226 2017-10-11 02:23:02 Z 0 days 1 attempts ------------------------------------------------------------ People who touched revisions under test: Eric Dong <eric.d...@intel.com> Hao Wu <hao.a...@intel.com> Ladi Prosek <lpro...@redhat.com> Laszlo Ersek <ler...@redhat.com> Liming Gao <liming....@intel.com> Ruiyu Ni <ruiyu...@intel.com> Yonghong Zhu <yonghong....@intel.com> jobs: build-amd64-xsm pass build-i386-xsm pass build-amd64 pass build-i386 pass build-amd64-libvirt pass build-i386-libvirt pass build-amd64-pvops pass build-i386-pvops pass test-amd64-amd64-xl-qemuu-ovmf-amd64 pass test-amd64-i386-xl-qemuu-ovmf-amd64 pass ------------------------------------------------------------ sg-report-flight on osstest.xs.citrite.net logs: /home/osstest/logs images: /home/osstest/images Logs, config files, etc. are available at http://osstest.xs.citrite.net/~osstest/testlogs/logs Test harness code can be found at http://xenbits.xensource.com/gitweb?p=osstest.git;a=summary Push not applicable. (No revision log; it would be 498 lines long.) _______________________________________________ Xen-devel mailing list Xen-devel@lists.xen.org https://lists.xen.org/xen-devel