flight 186026 ovmf real [real] http://logs.test-lab.xenproject.org/osstest/logs/186026/
Perfect :-) All tests in this flight passed as required version targeted for testing: ovmf 284dbac43da752ee34825c8b3f6f9e8281cb5a19 baseline version: ovmf 558a25366d66e9ff96784ed3aab476f808531bf3 Last test of basis 186000 2024-05-15 01:41:14 Z 2 days Testing same since 186026 2024-05-17 05:43:05 Z 0 days 1 attempts ------------------------------------------------------------ People who touched revisions under test: Pakkirisamy ShanmugavelX <shanmugavelx.pakkiris...@intel.com> Shanmugavel Pakkirisamy <shanmugavelx.pakkiris...@intel.com> jobs: build-amd64-xsm pass build-i386-xsm pass build-amd64 pass build-i386 pass build-amd64-libvirt pass build-i386-libvirt pass build-amd64-pvops pass build-i386-pvops pass test-amd64-amd64-xl-qemuu-ovmf-amd64 pass ------------------------------------------------------------ sg-report-flight on osstest.test-lab.xenproject.org logs: /home/logs/logs images: /home/logs/images Logs, config files, etc. are available at http://logs.test-lab.xenproject.org/osstest/logs Explanation of these reports, and of osstest in general, is at http://xenbits.xen.org/gitweb/?p=osstest.git;a=blob;f=README.email;hb=master http://xenbits.xen.org/gitweb/?p=osstest.git;a=blob;f=README;hb=master Test harness code can be found at http://xenbits.xen.org/gitweb?p=osstest.git;a=summary Pushing revision : To xenbits.xen.org:/home/xen/git/osstest/ovmf.git 558a25366d..284dbac43d 284dbac43da752ee34825c8b3f6f9e8281cb5a19 -> xen-tested-master