flight 186137 ovmf real [real]
http://logs.test-lab.xenproject.org/osstest/logs/186137/

Perfect :-)
All tests in this flight passed as required
version targeted for testing:
 ovmf                 3e722403cd16388a0e4044e705a2b34c841d76ca
baseline version:
 ovmf                 7142e648416ff5d3eac6c6d607874805f5de0ca8

Last test of basis   186054  2024-05-21 02:43:06 Z    3 days
Testing same since   186137  2024-05-24 16:12:58 Z    0 days    1 attempts

------------------------------------------------------------
People who touched revisions under test:
  Ard Biesheuvel <a...@kernel.org>
  Doug Flick <dougfl...@microsoft.com>
  Doug Flick [MSFT] <doug.e...@gmail.com>
  Flickdm <douglas.fl...@microsoft.com>
  Gerd Hoffmann <kra...@redhat.com>
  Jiewe Yao <jiewen....@intel.com>

jobs:
 build-amd64-xsm                                              pass    
 build-i386-xsm                                               pass    
 build-amd64                                                  pass    
 build-i386                                                   pass    
 build-amd64-libvirt                                          pass    
 build-i386-libvirt                                           pass    
 build-amd64-pvops                                            pass    
 build-i386-pvops                                             pass    
 test-amd64-amd64-xl-qemuu-ovmf-amd64                         pass    


------------------------------------------------------------
sg-report-flight on osstest.test-lab.xenproject.org
logs: /home/logs/logs
images: /home/logs/images

Logs, config files, etc. are available at
    http://logs.test-lab.xenproject.org/osstest/logs

Explanation of these reports, and of osstest in general, is at
    http://xenbits.xen.org/gitweb/?p=osstest.git;a=blob;f=README.email;hb=master
    http://xenbits.xen.org/gitweb/?p=osstest.git;a=blob;f=README;hb=master

Test harness code can be found at
    http://xenbits.xen.org/gitweb?p=osstest.git;a=summary


Pushing revision :

To xenbits.xen.org:/home/xen/git/osstest/ovmf.git
   7142e64841..3e722403cd  3e722403cd16388a0e4044e705a2b34c841d76ca -> 
xen-tested-master

Reply via email to