flight 159344 xen-unstable-coverity real [real] http://logs.test-lab.xenproject.org/osstest/logs/159344/
Perfect :-) All tests in this flight passed as required version targeted for testing: xen 04085ec1ac05a362812e9b0c6b5a8713d7dc88ad baseline version: xen 687121f8a0e7c1ea1c4fa3d056637e5819342f14 Last test of basis 159197 2021-02-10 09:18:32 Z 4 days Testing same since 159344 2021-02-14 09:18:27 Z 0 days 1 attempts ------------------------------------------------------------ People who touched revisions under test: Andrew Cooper <andrew.coop...@citrix.com> Elliott Mitchell <ehem+...@m5p.com> Ian Jackson <i...@xenproject.org> Jan Beulich <jbeul...@suse.com> Jukka Kaartinen <jukka.kaarti...@unikie.com> Julien Grall <jgr...@amazon.com> Roger Pau Monne <roger....@citrix.com> Roger Pau Monné <roger....@citrix.com> Stefano Stabellini <sstabell...@kernel.org> Stefano Stabellini <stefano.stabell...@xilinx.com> Wei Liu <w...@xen.org> jobs: coverity-amd64 pass ------------------------------------------------------------ sg-report-flight on osstest.test-lab.xenproject.org logs: /home/logs/logs images: /home/logs/images Logs, config files, etc. are available at http://logs.test-lab.xenproject.org/osstest/logs Explanation of these reports, and of osstest in general, is at http://xenbits.xen.org/gitweb/?p=osstest.git;a=blob;f=README.email;hb=master http://xenbits.xen.org/gitweb/?p=osstest.git;a=blob;f=README;hb=master Test harness code can be found at http://xenbits.xen.org/gitweb?p=osstest.git;a=summary Pushing revision : To xenbits.xen.org:/home/xen/git/xen.git 687121f8a0..04085ec1ac 04085ec1ac05a362812e9b0c6b5a8713d7dc88ad -> coverity-tested/smoke